BEGIN:VCALENDAR
VERSION:2.0
PRODID:-//OpenUK - ECPv6.15.20//NONSGML v1.0//EN
CALSCALE:GREGORIAN
METHOD:PUBLISH
X-WR-CALNAME:OpenUK
X-ORIGINAL-URL:https://openuk.uk
X-WR-CALDESC:Events for OpenUK
REFRESH-INTERVAL;VALUE=DURATION:PT1H
X-Robots-Tag:noindex
X-PUBLISHED-TTL:PT1H
BEGIN:VTIMEZONE
TZID:Europe/London
BEGIN:DAYLIGHT
TZOFFSETFROM:+0000
TZOFFSETTO:+0100
TZNAME:BST
DTSTART:20190331T010000
END:DAYLIGHT
BEGIN:STANDARD
TZOFFSETFROM:+0100
TZOFFSETTO:+0000
TZNAME:GMT
DTSTART:20191027T010000
END:STANDARD
BEGIN:DAYLIGHT
TZOFFSETFROM:+0000
TZOFFSETTO:+0100
TZNAME:BST
DTSTART:20200329T010000
END:DAYLIGHT
BEGIN:STANDARD
TZOFFSETFROM:+0100
TZOFFSETTO:+0000
TZNAME:GMT
DTSTART:20201025T010000
END:STANDARD
BEGIN:DAYLIGHT
TZOFFSETFROM:+0000
TZOFFSETTO:+0100
TZNAME:BST
DTSTART:20210328T010000
END:DAYLIGHT
BEGIN:STANDARD
TZOFFSETFROM:+0100
TZOFFSETTO:+0000
TZNAME:GMT
DTSTART:20211031T010000
END:STANDARD
END:VTIMEZONE
BEGIN:VEVENT
DTSTART;TZID=Europe/London:20200327T110000
DTEND;TZID=Europe/London:20200327T120000
DTSTAMP:20260424T160304
CREATED:20200417T141426Z
LAST-MODIFIED:20220728T122218Z
UID:4009-1585306800-1585310400@openuk.uk
SUMMARY:Introduction to Open Source - Part 2
DESCRIPTION:Sami is an experienced Director Of Intellectual Property with a demonstrated history of working in the semiconductors industry. Skilled in IP Licensing\, Open Source Software\, Embedded Software\, EDA\, Management\, Commercial Licensing\, and Business Modeling. Strong legal and commercial professional with a Diploma focused in Management from Institute of Management (UK).
URL:https://openuk.uk/event-calendar/introduction-part-2/
CATEGORIES:Friday Future Leaders Training
END:VEVENT
END:VCALENDAR