BEGIN:VCALENDAR
VERSION:2.0
PRODID:-//OpenUK - ECPv6.15.20//NONSGML v1.0//EN
CALSCALE:GREGORIAN
METHOD:PUBLISH
X-ORIGINAL-URL:https://openuk.uk
X-WR-CALDESC:Events for OpenUK
REFRESH-INTERVAL;VALUE=DURATION:PT1H
X-Robots-Tag:noindex
X-PUBLISHED-TTL:PT1H
BEGIN:VTIMEZONE
TZID:UTC
BEGIN:STANDARD
TZOFFSETFROM:+0000
TZOFFSETTO:+0000
TZNAME:UTC
DTSTART:20190101T000000
END:STANDARD
END:VTIMEZONE
BEGIN:VEVENT
DTSTART;TZID=UTC:20200424T120000
DTEND;TZID=UTC:20200424T130000
DTSTAMP:20260424T143741
CREATED:20200424T115218Z
LAST-MODIFIED:20220728T120332Z
UID:25824-1587729600-1587733200@openuk.uk
SUMMARY:Open Source Procurement
DESCRIPTION:OpenUK Future Leaders talk by Iain Mitchell QC\, Open Source Procurement\, 24th April 2020. \nIain graduated from Edinburgh University in 1973 and was called to the Scottish Bar in 1976\, taking silk in 1992. He was called to the English Bar in 2012. He is recommended in the Legal 500 and Chambers Directory for IT Law\, IP Law\, and commercial dispute resolution. \nAs well as being the Chairman of the Scottish Society of Computers & Law\, he is also Chair of the CCBE Surveillance Working Group\, a Member of the CCBE IT Committee; a member of the Bar Council IT Panel\, a Freeman of the Worshipful Company of Information Technologists and serves on the Electronic Evidence Working Party of the Centre for European Policy Studies. He holds an honorary lectureship in IT Law in the ITM Institute at the Wilhelms-Universität\, Münster and his publications include chapters in Electronic Evidence (Butterworths) and in Open Source Software: Law\, Policy and Practice (OUP). He is also one of the joint editors of JOLTS.
URL:https://openuk.uk/event-calendar/open-source-procurement/
CATEGORIES:Friday Future Leaders Training
ATTACH;FMTTYPE=image/jpeg:https://openuk.uk/wp-content/uploads/2022/07/D01D4786-CCE4-412C-87FF-3FA894458063.jpeg
END:VEVENT
END:VCALENDAR