BEGIN:VCALENDAR
VERSION:2.0
PRODID:-//OpenUK - ECPv6.15.20//NONSGML v1.0//EN
CALSCALE:GREGORIAN
METHOD:PUBLISH
X-WR-CALNAME:OpenUK
X-ORIGINAL-URL:https://openuk.uk
X-WR-CALDESC:Events for OpenUK
REFRESH-INTERVAL;VALUE=DURATION:PT1H
X-Robots-Tag:noindex
X-PUBLISHED-TTL:PT1H
BEGIN:VTIMEZONE
TZID:UTC
BEGIN:STANDARD
TZOFFSETFROM:+0000
TZOFFSETTO:+0000
TZNAME:UTC
DTSTART:20190101T000000
END:STANDARD
END:VTIMEZONE
BEGIN:VEVENT
DTSTART;TZID=UTC:20200515T120000
DTEND;TZID=UTC:20200515T130000
DTSTAMP:20260424T132157
CREATED:20200424T122100Z
LAST-MODIFIED:20220728T135201Z
UID:4213-1589544000-1589547600@openuk.uk
SUMMARY:Open and Trademarks
DESCRIPTION:Pamela is the Principal of Chestek Legal. Pam has been studying trademark law as it relates to open source software for over a decade.
URL:https://openuk.uk/event-calendar/open-and-trade-marks/
CATEGORIES:Friday Future Leaders Training
ATTACH;FMTTYPE=image/png:https://openuk.uk/wp-content/uploads/2020/04/Future-Leaders-Training-card-with-dito-logo-Pamela-Chestek.png
END:VEVENT
END:VCALENDAR