BEGIN:VCALENDAR
VERSION:2.0
PRODID:-//OpenUK - ECPv6.15.20//NONSGML v1.0//EN
CALSCALE:GREGORIAN
METHOD:PUBLISH
X-ORIGINAL-URL:https://openuk.uk
X-WR-CALDESC:Events for OpenUK
REFRESH-INTERVAL;VALUE=DURATION:PT1H
X-Robots-Tag:noindex
X-PUBLISHED-TTL:PT1H
BEGIN:VTIMEZONE
TZID:Europe/London
BEGIN:DAYLIGHT
TZOFFSETFROM:+0000
TZOFFSETTO:+0100
TZNAME:BST
DTSTART:20190331T010000
END:DAYLIGHT
BEGIN:STANDARD
TZOFFSETFROM:+0100
TZOFFSETTO:+0000
TZNAME:GMT
DTSTART:20191027T010000
END:STANDARD
BEGIN:DAYLIGHT
TZOFFSETFROM:+0000
TZOFFSETTO:+0100
TZNAME:BST
DTSTART:20200329T010000
END:DAYLIGHT
BEGIN:STANDARD
TZOFFSETFROM:+0100
TZOFFSETTO:+0000
TZNAME:GMT
DTSTART:20201025T010000
END:STANDARD
BEGIN:DAYLIGHT
TZOFFSETFROM:+0000
TZOFFSETTO:+0100
TZNAME:BST
DTSTART:20210328T010000
END:DAYLIGHT
BEGIN:STANDARD
TZOFFSETFROM:+0100
TZOFFSETTO:+0000
TZNAME:GMT
DTSTART:20211031T010000
END:STANDARD
END:VTIMEZONE
BEGIN:VEVENT
DTSTART;TZID=Europe/London:20200522T120000
DTEND;TZID=Europe/London:20200522T130000
DTSTAMP:20260424T132213
CREATED:20200403T010304Z
LAST-MODIFIED:20220728T134911Z
UID:3622-1590148800-1590152400@openuk.uk
SUMMARY:Intro to Open Chain Compliance
DESCRIPTION:Sami is an experienced Director Of Intellectual Property with a demonstrated history of working in the semiconductors industry. Skilled in IP Licensing\, Open Source Software\, Embedded Software\, EDA\, Management\, Commercial Licensing\, and Business Modeling. Strong legal and commercial professional with a Diploma focused in Management from Institute of Management (UK).
URL:https://openuk.uk/event-calendar/intro-to-open-chain-compliance/
CATEGORIES:Friday Future Leaders Training
ATTACH;FMTTYPE=image/png:https://openuk.uk/wp-content/uploads/2020/04/Future-Leaders-Training-card-with-dito-logo-Sami-Atabani-22-May-1.png
END:VEVENT
END:VCALENDAR