BEGIN:VCALENDAR
VERSION:2.0
PRODID:-//OpenUK - ECPv6.15.20//NONSGML v1.0//EN
CALSCALE:GREGORIAN
METHOD:PUBLISH
X-WR-CALNAME:OpenUK
X-ORIGINAL-URL:https://openuk.uk
X-WR-CALDESC:Events for OpenUK
REFRESH-INTERVAL;VALUE=DURATION:PT1H
X-Robots-Tag:noindex
X-PUBLISHED-TTL:PT1H
BEGIN:VTIMEZONE
TZID:UTC
BEGIN:STANDARD
TZOFFSETFROM:+0000
TZOFFSETTO:+0000
TZNAME:UTC
DTSTART:20190101T000000
END:STANDARD
END:VTIMEZONE
BEGIN:VEVENT
DTSTART;TZID=UTC:20200605T120000
DTEND;TZID=UTC:20200605T130000
DTSTAMP:20260424T120117
CREATED:20220728T133845Z
LAST-MODIFIED:20220728T133845Z
UID:25926-1591358400-1591362000@openuk.uk
SUMMARY:Patent Risk in an Open Source Centric World
DESCRIPTION:OpenUK Future Leaders talk\, Keith Bergelt\, The Management of Patent Risk in an Increasingly Open Source Centric World\, 5th June 2020 \nKeith Bergelt is the CEO of Open Invention Network (OIN)\, the largest patent non-aggression community in history\, created to support freedom of action in Linux and adjacent open source technologies. Funded by Google\, IBM\, NEC\, Philips\, Sony\, SUSE and Toyota\, OIN has more than 3\,200 community members and owns approximately 1\,300 global patents and applications. \nHaving previously led two hedge funds\, served as a technology advisor for Texas Pacific Group\, headed business development\, IP\, and licensing for the Kelso & Company portfolio company Cambridge Display\, and acted as General Manager of the Strategic Intellectual Asset Management business unit at Motorola\, he is a frequent speaker on corporate strategy\, finance and intellectual property management.
URL:https://openuk.uk/event-calendar/patent-risk-in-an-open-source-centric-world/
CATEGORIES:Friday Future Leaders Training
ATTACH;FMTTYPE=image/jpeg:https://openuk.uk/wp-content/uploads/2022/07/42CDA96F-ACD2-4095-B7FB-F90E3F69FAD2.jpeg
END:VEVENT
END:VCALENDAR