BEGIN:VCALENDAR
VERSION:2.0
PRODID:-//OpenUK - ECPv6.15.20//NONSGML v1.0//EN
CALSCALE:GREGORIAN
METHOD:PUBLISH
X-ORIGINAL-URL:https://openuk.uk
X-WR-CALDESC:Events for OpenUK
REFRESH-INTERVAL;VALUE=DURATION:PT1H
X-Robots-Tag:noindex
X-PUBLISHED-TTL:PT1H
BEGIN:VTIMEZONE
TZID:Europe/London
BEGIN:DAYLIGHT
TZOFFSETFROM:+0000
TZOFFSETTO:+0100
TZNAME:BST
DTSTART:20190331T010000
END:DAYLIGHT
BEGIN:STANDARD
TZOFFSETFROM:+0100
TZOFFSETTO:+0000
TZNAME:GMT
DTSTART:20191027T010000
END:STANDARD
BEGIN:DAYLIGHT
TZOFFSETFROM:+0000
TZOFFSETTO:+0100
TZNAME:BST
DTSTART:20200329T010000
END:DAYLIGHT
BEGIN:STANDARD
TZOFFSETFROM:+0100
TZOFFSETTO:+0000
TZNAME:GMT
DTSTART:20201025T010000
END:STANDARD
BEGIN:DAYLIGHT
TZOFFSETFROM:+0000
TZOFFSETTO:+0100
TZNAME:BST
DTSTART:20210328T010000
END:DAYLIGHT
BEGIN:STANDARD
TZOFFSETFROM:+0100
TZOFFSETTO:+0000
TZNAME:GMT
DTSTART:20211031T010000
END:STANDARD
END:VTIMEZONE
BEGIN:VEVENT
DTSTART;TZID=Europe/London:20200612T120000
DTEND;TZID=Europe/London:20200612T130000
DTSTAMP:20260424T120132
CREATED:20200403T010402Z
LAST-MODIFIED:20220728T133259Z
UID:3634-1591963200-1591966800@openuk.uk
SUMMARY:The History of Open
DESCRIPTION:Neil McGovern has been involved with open source software for over 20 years\, both personally and professionally. Starting in the Debian project\, he held various roles\, cumulating in him becoming Debian Project Leader from 2014-2015. He has also served on the boards of numerous organisations\, including Software in the Public Interest\, Inc. and the Open Rights Group. Professionally\, Neil has run the engineering team of a large open source software consultancy\, and is currently the Executive Director of the GNOME Foundation. He lives in Cambridge\, UK. In his spare time he enjoys socialising with friends and has a private pilot licence.
URL:https://openuk.uk/event-calendar/the-history-of-open/
CATEGORIES:Friday Future Leaders Training
ATTACH;FMTTYPE=image/png:https://openuk.uk/wp-content/uploads/2020/04/Future-Leaders-Training-card-with-dito-logo-Neil-McGovern-12-June-2020-1.png
END:VEVENT
END:VCALENDAR