BEGIN:VCALENDAR
VERSION:2.0
PRODID:-//OpenUK - ECPv6.15.20//NONSGML v1.0//EN
CALSCALE:GREGORIAN
METHOD:PUBLISH
X-WR-CALNAME:OpenUK
X-ORIGINAL-URL:https://openuk.uk
X-WR-CALDESC:Events for OpenUK
REFRESH-INTERVAL;VALUE=DURATION:PT1H
X-Robots-Tag:noindex
X-PUBLISHED-TTL:PT1H
BEGIN:VTIMEZONE
TZID:UTC
BEGIN:STANDARD
TZOFFSETFROM:+0000
TZOFFSETTO:+0000
TZNAME:UTC
DTSTART:20200101T000000
END:STANDARD
END:VTIMEZONE
BEGIN:VEVENT
DTSTART;VALUE=DATE:20210928
DTEND;VALUE=DATE:20211002
DTSTAMP:20260423T111618
CREATED:20210204T104755Z
LAST-MODIFIED:20210830T215929Z
UID:12881-1632787200-1633132799@openuk.uk
SUMMARY:Linux Foundation European Summit 2021
DESCRIPTION:
URL:https://openuk.uk/event-calendar/linux-foundation-european-summit-2021/
LOCATION:Hyatt Regency Seattle\, 808 Howell St\, Seattle\, WA\, WA 98101\, United States
CATEGORIES:Events of Interest
ATTACH;FMTTYPE=image/png:https://openuk.uk/wp-content/uploads/2021/02/Screenshot-2021-02-04-at-10.43.5.png
END:VEVENT
END:VCALENDAR