BEGIN:VCALENDAR
VERSION:2.0
PRODID:-//OpenUK - ECPv6.15.20//NONSGML v1.0//EN
CALSCALE:GREGORIAN
METHOD:PUBLISH
X-WR-CALNAME:OpenUK
X-ORIGINAL-URL:https://openuk.uk
X-WR-CALDESC:Events for OpenUK
REFRESH-INTERVAL;VALUE=DURATION:PT1H
X-Robots-Tag:noindex
X-PUBLISHED-TTL:PT1H
BEGIN:VTIMEZONE
TZID:UTC
BEGIN:STANDARD
TZOFFSETFROM:+0000
TZOFFSETTO:+0000
TZNAME:UTC
DTSTART:20200101T000000
END:STANDARD
END:VTIMEZONE
BEGIN:VEVENT
DTSTART;VALUE=DATE:20211008
DTEND;VALUE=DATE:20211010
DTSTAMP:20260423T111618
CREATED:20210601T091946Z
LAST-MODIFIED:20210601T091946Z
UID:16094-1633651200-1633823999@openuk.uk
SUMMARY:Ada’s List Conference 2021
DESCRIPTION:Ada’s annual conference is back! Last year they welcomed over 30 speakers and 300 attendees. \n\n\nThey will be meeting virtually over two days\, so save the dates now: October 8-9\, 2021 \nFull speaker line up and pathways to be announced shortly\, so sign up for updates here.
URL:https://openuk.uk/event-calendar/adas-list-conference-2021/
CATEGORIES:Events of Interest
ATTACH;FMTTYPE=image/png:https://openuk.uk/wp-content/uploads/2021/06/AdasList_Logotype_DarkGreen_WithTagline.png
END:VEVENT
END:VCALENDAR