BEGIN:VCALENDAR
VERSION:2.0
PRODID:-//OpenUK - ECPv6.15.20//NONSGML v1.0//EN
CALSCALE:GREGORIAN
METHOD:PUBLISH
X-WR-CALNAME:OpenUK
X-ORIGINAL-URL:https://openuk.uk
X-WR-CALDESC:Events for OpenUK
REFRESH-INTERVAL;VALUE=DURATION:PT1H
X-Robots-Tag:noindex
X-PUBLISHED-TTL:PT1H
BEGIN:VTIMEZONE
TZID:UTC
BEGIN:STANDARD
TZOFFSETFROM:+0000
TZOFFSETTO:+0000
TZNAME:UTC
DTSTART:20210101T000000
END:STANDARD
END:VTIMEZONE
BEGIN:VEVENT
DTSTART;VALUE=DATE:20220119
DTEND;VALUE=DATE:20220121
DTSTAMP:20260423T061839
CREATED:20211230T062825Z
LAST-MODIFIED:20211230T062825Z
UID:21126-1642550400-1642723199@openuk.uk
SUMMARY:FIWARE Smart Fest
DESCRIPTION:Get ready to make Data Spaces really happen. \nMeet users and experts from leading industries\, European associations\, advisory boards and governmental organisations to discuss the very next steps to take – and learn about the current state of play of the development of data spaces. \nOne to the biggest – and free of charge – virtual events of the season about Data Spaces. Grab your ticket to this unique interactive event.
URL:https://openuk.uk/event-calendar/fiware-smart-fest/
LOCATION:Virtual
CATEGORIES:Events of Interest
ATTACH;FMTTYPE=image/jpeg:https://openuk.uk/wp-content/uploads/2021/12/fiware_smart_fest.jpeg
END:VEVENT
END:VCALENDAR