BEGIN:VCALENDAR
VERSION:2.0
PRODID:-//OpenUK - ECPv6.15.20//NONSGML v1.0//EN
CALSCALE:GREGORIAN
METHOD:PUBLISH
X-ORIGINAL-URL:https://openuk.uk
X-WR-CALDESC:Events for OpenUK
REFRESH-INTERVAL;VALUE=DURATION:PT1H
X-Robots-Tag:noindex
X-PUBLISHED-TTL:PT1H
BEGIN:VTIMEZONE
TZID:UTC
BEGIN:STANDARD
TZOFFSETFROM:+0000
TZOFFSETTO:+0000
TZNAME:UTC
DTSTART:20210101T000000
END:STANDARD
END:VTIMEZONE
BEGIN:VEVENT
DTSTART;TZID=UTC:20220121T120000
DTEND;TZID=UTC:20220121T130000
DTSTAMP:20260423T062021
CREATED:20220111T112444Z
LAST-MODIFIED:20220128T112755Z
UID:21330-1642766400-1642770000@openuk.uk
SUMMARY:Future Founders Training: Session 1
DESCRIPTION:Join a Series of Training Sessions for Future Founders – those with an active interest in learning about the business of Open Technology. \nSession 1: Introductory session: Why found an Open Source Business?  \nPanel: Alexis Richardson\, David Mytton\, Liz Rice\nModerator: Matt Barker \nDiscussion topics:\n– How did founders enter open source tech?\n– Why did they start an open tech business\n– What challenges did they face\n– How did they overcome those challenges\n– How do they view the state of open source today?\n– Why should someone start an open source business?\n– What advice would you give to any potential founders
URL:https://openuk.uk/event-calendar/future-founders-1/
LOCATION:Online
CATEGORIES:Future Founders Training
ATTACH;FMTTYPE=image/png:https://openuk.uk/wp-content/uploads/2022/01/Session-1-Social-Media-Card.png
ORGANIZER;CN="OpenUK":MAILTO:admin@openuk.uk
END:VEVENT
END:VCALENDAR