BEGIN:VCALENDAR
VERSION:2.0
PRODID:-//OpenUK - ECPv6.15.20//NONSGML v1.0//EN
CALSCALE:GREGORIAN
METHOD:PUBLISH
X-WR-CALNAME:OpenUK
X-ORIGINAL-URL:https://openuk.uk
X-WR-CALDESC:Events for OpenUK
REFRESH-INTERVAL;VALUE=DURATION:PT1H
X-Robots-Tag:noindex
X-PUBLISHED-TTL:PT1H
BEGIN:VTIMEZONE
TZID:UTC
BEGIN:STANDARD
TZOFFSETFROM:+0000
TZOFFSETTO:+0000
TZNAME:UTC
DTSTART:20210101T000000
END:STANDARD
END:VTIMEZONE
BEGIN:VEVENT
DTSTART;TZID=UTC:20220128T120000
DTEND;TZID=UTC:20220128T130000
DTSTAMP:20260423T061839
CREATED:20220111T112641Z
LAST-MODIFIED:20220128T114331Z
UID:21342-1643371200-1643374800@openuk.uk
SUMMARY:Future Founders Training: Session 2
DESCRIPTION:Join a Series of Training Sessions for Future Founders – those with an active interest in learning about the business of Open Technology. \nSession 2: Product Market Fit / developing a product \nPanel: Fiona Nielsen\, Justin Cormack\, Sam Weaver\, Tom Wilkie \nModerator: Matt Barker \n– Feature development – internal resources\, community\, customers \n– Building a road map \n– Features which will be free v features which will be paid for \n– Implementing the right pricing structure \n– Customer onboarding and delivery
URL:https://openuk.uk/event-calendar/future-founders-2/
LOCATION:Online
CATEGORIES:Future Founders Training
ATTACH;FMTTYPE=image/png:https://openuk.uk/wp-content/uploads/2022/01/Session-2-Social-Media-Card.png
ORGANIZER;CN="OpenUK":MAILTO:admin@openuk.uk
END:VEVENT
END:VCALENDAR