BEGIN:VCALENDAR
VERSION:2.0
PRODID:-//OpenUK - ECPv6.15.20//NONSGML v1.0//EN
CALSCALE:GREGORIAN
METHOD:PUBLISH
X-WR-CALNAME:OpenUK
X-ORIGINAL-URL:https://openuk.uk
X-WR-CALDESC:Events for OpenUK
REFRESH-INTERVAL;VALUE=DURATION:PT1H
X-Robots-Tag:noindex
X-PUBLISHED-TTL:PT1H
BEGIN:VTIMEZONE
TZID:UTC
BEGIN:STANDARD
TZOFFSETFROM:+0000
TZOFFSETTO:+0000
TZNAME:UTC
DTSTART:20210101T000000
END:STANDARD
END:VTIMEZONE
BEGIN:VEVENT
DTSTART;TZID=UTC:20220225T120000
DTEND;TZID=UTC:20220225T130000
DTSTAMP:20260423T043328
CREATED:20220111T113028Z
LAST-MODIFIED:20220218T091319Z
UID:21363-1645790400-1645794000@openuk.uk
SUMMARY:Future Founders Training: Session 4
DESCRIPTION:Join a Series of Training Sessions for Future Founders – those with an active interest in learning about the business of Open Technology. \nSession 4: Sales in Open Source Businesses \nSpeakers: Lee Wright\, Paul Holt\, Victor Tuson Palau \nModerator: Matt Barker \nTopics: \n– The differences between selling in proprietary vs open source companies.\n– Identifying a buyer vs a user of your project\n– Selling value on top of open source\n– SaaS\, on-prem and multi cloud sales approaches
URL:https://openuk.uk/event-calendar/future-founders-4/
LOCATION:Online
CATEGORIES:Future Founders Training
ATTACH;FMTTYPE=image/png:https://openuk.uk/wp-content/uploads/2022/02/Session-4-Social-Media-Card.png
ORGANIZER;CN="OpenUK":MAILTO:admin@openuk.uk
END:VEVENT
END:VCALENDAR