BEGIN:VCALENDAR
VERSION:2.0
PRODID:-//OpenUK - ECPv6.15.20//NONSGML v1.0//EN
CALSCALE:GREGORIAN
METHOD:PUBLISH
X-WR-CALNAME:OpenUK
X-ORIGINAL-URL:https://openuk.uk
X-WR-CALDESC:Events for OpenUK
REFRESH-INTERVAL;VALUE=DURATION:PT1H
X-Robots-Tag:noindex
X-PUBLISHED-TTL:PT1H
BEGIN:VTIMEZONE
TZID:UTC
BEGIN:STANDARD
TZOFFSETFROM:+0000
TZOFFSETTO:+0000
TZNAME:UTC
DTSTART:20210101T000000
END:STANDARD
END:VTIMEZONE
BEGIN:VEVENT
DTSTART;TZID=UTC:20220609T180000
DTEND;TZID=UTC:20220610T000000
DTSTAMP:20260422T215814
CREATED:20220315T120148Z
LAST-MODIFIED:20220509T130857Z
UID:22686-1654797600-1654819200@openuk.uk
SUMMARY:OpenUK Summer Burns Supper
DESCRIPTION:Join us for a special Burns Supper (delayed from January due to Covid!). \nAnyone interested in buying a Corporate Table sponsorship at £1\,100 per table or attending as an individual at £100 per head should contact admin@openuk.uk.
URL:https://openuk.uk/event-calendar/openuk-burns-supper/
LOCATION:House of Commons Members Dining Room\, Parliament Square\, London\, SW1A 0PW\, United Kingdom
CATEGORIES:OpenUK Events
ATTACH;FMTTYPE=image/jpeg:https://openuk.uk/wp-content/uploads/2021/08/OPENUK-horizontallogo-fullcolour-rgb-e1698755267977.jpg
ORGANIZER;CN="OpenUK":MAILTO:admin@openuk.uk
END:VEVENT
END:VCALENDAR