BEGIN:VCALENDAR
VERSION:2.0
PRODID:-//OpenUK - ECPv6.15.20//NONSGML v1.0//EN
CALSCALE:GREGORIAN
METHOD:PUBLISH
X-WR-CALNAME:OpenUK
X-ORIGINAL-URL:https://openuk.uk
X-WR-CALDESC:Events for OpenUK
REFRESH-INTERVAL;VALUE=DURATION:PT1H
X-Robots-Tag:noindex
X-PUBLISHED-TTL:PT1H
BEGIN:VTIMEZONE
TZID:America/New_York
BEGIN:DAYLIGHT
TZOFFSETFROM:-0500
TZOFFSETTO:-0400
TZNAME:EDT
DTSTART:20210314T070000
END:DAYLIGHT
BEGIN:STANDARD
TZOFFSETFROM:-0400
TZOFFSETTO:-0500
TZNAME:EST
DTSTART:20211107T060000
END:STANDARD
BEGIN:DAYLIGHT
TZOFFSETFROM:-0500
TZOFFSETTO:-0400
TZNAME:EDT
DTSTART:20220313T070000
END:DAYLIGHT
BEGIN:STANDARD
TZOFFSETFROM:-0400
TZOFFSETTO:-0500
TZNAME:EST
DTSTART:20221106T060000
END:STANDARD
BEGIN:DAYLIGHT
TZOFFSETFROM:-0500
TZOFFSETTO:-0400
TZNAME:EDT
DTSTART:20230312T070000
END:DAYLIGHT
BEGIN:STANDARD
TZOFFSETFROM:-0400
TZOFFSETTO:-0500
TZNAME:EST
DTSTART:20231105T060000
END:STANDARD
END:VTIMEZONE
BEGIN:VTIMEZONE
TZID:UTC
BEGIN:STANDARD
TZOFFSETFROM:+0000
TZOFFSETTO:+0000
TZNAME:UTC
DTSTART:20210101T000000
END:STANDARD
END:VTIMEZONE
BEGIN:VEVENT
DTSTART;VALUE=DATE:20220713
DTEND;VALUE=DATE:20220714
DTSTAMP:20260422T202353
CREATED:20220522T094432Z
LAST-MODIFIED:20220523T075928Z
UID:23733-1657670400-1657756799@openuk.uk
SUMMARY:Open Source Finance Forum
DESCRIPTION:Brought to you by the Linux Foundation and Fintech Open Source Foundation (FINOS)\, Open Source in Finance Forum London is the only conference dedicated to driving collaboration and innovation in financial services through open source software and standards.
URL:https://openuk.uk/event-calendar/opensourcefinanceforum/
LOCATION:Etc Venues\, Liverpool St\, London\, EC3A 7BX\, United Kingdom
CATEGORIES:Events of Interest
ATTACH;FMTTYPE=image/webp:https://openuk.uk/wp-content/uploads/2022/05/Open-Source-Event-Image--e1653212598166.webp
END:VEVENT
BEGIN:VEVENT
DTSTART;TZID=UTC:20220713T150000
DTEND;TZID=UTC:20220713T160000
DTSTAMP:20260422T202353
CREATED:20220620T205545Z
LAST-MODIFIED:20220722T093812Z
UID:24468-1657724400-1657728000@openuk.uk
SUMMARY:How the Department of Defense moved to DevSecOps to move at the pace of relevance
DESCRIPTION:Former U.S Air Force and Air Force Chief Software Officer – Departed October 2021 \nMr. Nicolas M. Chaillan was appointed as the first Air Force Chief Software Officer (CSO)\, under Dr. William Roper\, the Assistant Secretary of the Air Force for Acquisition\, Technology\, and Logistics\, Arlington\, VA. He was also the Co-lead for the DoD Enterprise DevSecOps Initiative (DSOP) with the Department of Defense Chief Information Officer. As the Air Force’s former senior software czar\, Mr. Chaillan was responsible for enabling Air Force programs in the transition to Agile and DevSecOps to establish force-wide DevSecOps capabilities and best practices\, including continuous Authority to Operate (c-ATO) processes and faster streamlined technology adoption. \nThe Chief Software Officer worked with the Program Executive Officers (PEOs) and was responsible for analyzing current software and cloud migration plans to avoid vendor lock-ins while allowing for rapid prototyping and a streamlined process for deployment. To keep up with the pace of technology\, Mr. Chaillan evaluated and authorized new commercially available off-the-shelf software and cloud-related technologies to help with their adoption across various AF programs based on their mission needs. \nMr. Chaillan was the Special Advisor for Cloud Security and DevSecOps at the Department of Defense\, OSD\, A&S and Special Advisor for Cybersecurity and Chief Architect for Cyber.gov at the Department of Homeland Security. He designed the new robust\, innovative and holistic .Gov cybersecurity architecture (Cyber.gov) that mitigates cyber threats by leveraging best practices and implementable solutions with minimal impact to workforce efficiency. \nIn addition to his public service\, Mr. Chaillan is a technology entrepreneur\, software developer\, cyber expert and inventor. He has over 19 years of domestic and international experience with strong technical and subject matter expertise in cybersecurity\, software development\, product innovation\, governance\, risk management and compliance. Specifically\, these fields include Cloud computing\, Cybersecurity\, DevSecOps\, Big Data\, multi-touch\, mobile\, IoT\, Mixed Reality\, VR\, and wearables. \nMr. Chaillan is recognized as one of France’s youngest entrepreneurs after founding\, WORLDAKT at 15 years of age. Mr. Chaillan founded 12 companies\, including AFTER-MOUSE.COM\, Cyber Revolution\, Prevent Breach\, anyGuest.com\, and more. Over the last eight years alone\, he created and sold over 180 innovative software products to 45 Fortune 500 companies. In addition\, Mr. Chaillan is recognized as a pioneer of the computer language PHP. \nHe is a sought-after adviser and speaker\, and participates in multiple industry conferences and has experience working in close collaboration with many Fortune 100 companies and the U.S. Government.
URL:https://openuk.uk/event-calendar/how-the-department-of-defense-moved-to-devsecops-to-move-at-the-pace-of-relevance/
CATEGORIES:Summer of Security
ATTACH;FMTTYPE=image/png:https://openuk.uk/wp-content/uploads/2022/06/Social-Media-Card_V2_-openuk-Security-summer-talks-.pptx-2.png
ORGANIZER;CN="OpenUK":MAILTO:admin@openuk.uk
END:VEVENT
END:VCALENDAR