BEGIN:VCALENDAR
VERSION:2.0
PRODID:-//OpenUK - ECPv6.15.20//NONSGML v1.0//EN
CALSCALE:GREGORIAN
METHOD:PUBLISH
X-ORIGINAL-URL:https://openuk.uk
X-WR-CALDESC:Events for OpenUK
REFRESH-INTERVAL;VALUE=DURATION:PT1H
X-Robots-Tag:noindex
X-PUBLISHED-TTL:PT1H
BEGIN:VTIMEZONE
TZID:UTC
BEGIN:STANDARD
TZOFFSETFROM:+0000
TZOFFSETTO:+0000
TZNAME:UTC
DTSTART:20210101T000000
END:STANDARD
END:VTIMEZONE
BEGIN:VEVENT
DTSTART;VALUE=DATE:20220720
DTEND;VALUE=DATE:20220726
DTSTAMP:20260422T202404
CREATED:20211224T111650Z
LAST-MODIFIED:20220422T175900Z
UID:20940-1658275200-1658793599@openuk.uk
SUMMARY:GUADEC 2022
DESCRIPTION:GUADEC is the GNOME community’s largest conference. Every year we bring together users\, contributors\, and community members for a week of talks and workshops.
URL:https://openuk.uk/event-calendar/guadec-2022-date-tbc/
LOCATION:Guadalajara Connectory\, Av. Ignacio L. Vallarta 3300-Piso 2\, Vallarta Nte.\,\, Guadalajara\, 44690\, Mexico
CATEGORIES:Events of Interest
ATTACH;FMTTYPE=image/jpeg:https://openuk.uk/wp-content/uploads/2021/12/GUADEC-e1640344650233.jpeg
END:VEVENT
BEGIN:VEVENT
DTSTART;TZID=UTC:20220720T150000
DTEND;TZID=UTC:20220720T160000
DTSTAMP:20260422T202404
CREATED:20220620T205753Z
LAST-MODIFIED:20220721T151515Z
UID:24477-1658329200-1658332800@openuk.uk
SUMMARY:Engaging the Public Sector in the OpenSSF Mobilization Plan
DESCRIPTION:“Engaging the Public Sector In The OpenSSF”\nBrian Behlendorf (born March 30\, 1973) is an American technologist\, executive\, computer programmer and leading figure in the open-source software movement. He was a primary developer of the Apache Web server\, the most popular web server software on the Internet\, and a founding member of the Apache Group\, which later became the Apache Software Foundation. Behlendorf served as president of the foundation for three years. He has served on the board of the Mozilla Foundation since 2003\, Benetech since 2009 and the Electronic Frontier Foundation since 2013. Currently\, Behlendorf serves as the General Manager of the Open Source Security Foundation.
URL:https://openuk.uk/event-calendar/engaging-the-public-sector-in-the-openssf-mobilization-plan/
CATEGORIES:Summer of Security
ATTACH;FMTTYPE=image/png:https://openuk.uk/wp-content/uploads/2022/06/Social-Media-Card_V2_-openuk-Security-summer-talks-.pptx-3.png
ORGANIZER;CN="OpenUK":MAILTO:admin@openuk.uk
END:VEVENT
END:VCALENDAR