BEGIN:VCALENDAR
VERSION:2.0
PRODID:-//OpenUK - ECPv6.15.20//NONSGML v1.0//EN
CALSCALE:GREGORIAN
METHOD:PUBLISH
X-WR-CALNAME:OpenUK
X-ORIGINAL-URL:https://openuk.uk
X-WR-CALDESC:Events for OpenUK
REFRESH-INTERVAL;VALUE=DURATION:PT1H
X-Robots-Tag:noindex
X-PUBLISHED-TTL:PT1H
BEGIN:VTIMEZONE
TZID:UTC
BEGIN:STANDARD
TZOFFSETFROM:+0000
TZOFFSETTO:+0000
TZNAME:UTC
DTSTART:20210101T000000
END:STANDARD
END:VTIMEZONE
BEGIN:VTIMEZONE
TZID:Europe/Paris
BEGIN:DAYLIGHT
TZOFFSETFROM:+0100
TZOFFSETTO:+0200
TZNAME:CEST
DTSTART:20210328T010000
END:DAYLIGHT
BEGIN:STANDARD
TZOFFSETFROM:+0200
TZOFFSETTO:+0100
TZNAME:CET
DTSTART:20211031T010000
END:STANDARD
BEGIN:DAYLIGHT
TZOFFSETFROM:+0100
TZOFFSETTO:+0200
TZNAME:CEST
DTSTART:20220327T010000
END:DAYLIGHT
BEGIN:STANDARD
TZOFFSETFROM:+0200
TZOFFSETTO:+0100
TZNAME:CET
DTSTART:20221030T010000
END:STANDARD
BEGIN:DAYLIGHT
TZOFFSETFROM:+0100
TZOFFSETTO:+0200
TZNAME:CEST
DTSTART:20230326T010000
END:DAYLIGHT
BEGIN:STANDARD
TZOFFSETFROM:+0200
TZOFFSETTO:+0100
TZNAME:CET
DTSTART:20231029T010000
END:STANDARD
END:VTIMEZONE
BEGIN:VTIMEZONE
TZID:Europe/Helsinki
BEGIN:DAYLIGHT
TZOFFSETFROM:+0200
TZOFFSETTO:+0300
TZNAME:EEST
DTSTART:20210328T010000
END:DAYLIGHT
BEGIN:STANDARD
TZOFFSETFROM:+0300
TZOFFSETTO:+0200
TZNAME:EET
DTSTART:20211031T010000
END:STANDARD
BEGIN:DAYLIGHT
TZOFFSETFROM:+0200
TZOFFSETTO:+0300
TZNAME:EEST
DTSTART:20220327T010000
END:DAYLIGHT
BEGIN:STANDARD
TZOFFSETFROM:+0300
TZOFFSETTO:+0200
TZNAME:EET
DTSTART:20221030T010000
END:STANDARD
BEGIN:DAYLIGHT
TZOFFSETFROM:+0200
TZOFFSETTO:+0300
TZNAME:EEST
DTSTART:20230326T010000
END:DAYLIGHT
BEGIN:STANDARD
TZOFFSETFROM:+0300
TZOFFSETTO:+0200
TZNAME:EET
DTSTART:20231029T010000
END:STANDARD
END:VTIMEZONE
BEGIN:VEVENT
DTSTART;VALUE=DATE:20220913
DTEND;VALUE=DATE:20220917
DTSTAMP:20260422T170540
CREATED:20211224T113033Z
LAST-MODIFIED:20211224T113430Z
UID:20982-1663027200-1663372799@openuk.uk
SUMMARY:Embedded Linux Conference Europe
DESCRIPTION:Join us at the premier event for open source developers\, technologists and leadership to collaborate\, share information\, and gain knowledge\, furthering open source innovation in software development and helping to create more sustainable open source ecosystems.
URL:https://openuk.uk/event-calendar/embedded-linux-conference-europe/
LOCATION:Dublin\, Ireland
CATEGORIES:Events of Interest
ATTACH;FMTTYPE=image/png:https://openuk.uk/wp-content/uploads/2021/12/embedded_linux_conference_europe.png
END:VEVENT
BEGIN:VEVENT
DTSTART;VALUE=DATE:20220913
DTEND;VALUE=DATE:20220917
DTSTAMP:20260422T170540
CREATED:20211224T113248Z
LAST-MODIFIED:20211224T113449Z
UID:20994-1663027200-1663372799@openuk.uk
SUMMARY:OSPOCon Europe
DESCRIPTION:An event for those working in open source program offices in organizations that rely on open source technologies to learn and share best practices\, experiences\, and tools to overcome challenges they face.
URL:https://openuk.uk/event-calendar/ospocon-europe/
LOCATION:Dublin\, Ireland
CATEGORIES:Events of Interest
ATTACH;FMTTYPE=image/png:https://openuk.uk/wp-content/uploads/2021/12/ospo_con_europe.png
END:VEVENT
BEGIN:VEVENT
DTSTART;VALUE=DATE:20220913
DTEND;VALUE=DATE:20220917
DTSTAMP:20260422T170540
CREATED:20220327T173710Z
LAST-MODIFIED:20220327T173710Z
UID:22962-1663027200-1663372799@openuk.uk
SUMMARY:Open Source Summit Europe
DESCRIPTION:Open Source Summit is the premier event for open source developers\, technologists\, and community leaders to collaborate\, share information\, solve problems\, and gain knowledge\, furthering open source innovation and ensuring a sustainable open source ecosystem. It is the gathering place for open-source code and community contributors. \nOpen Source Summit is a conference umbrella\, composed of a collection of events covering the most important technologies\, topics\, and issues affecting open source today.
URL:https://openuk.uk/event-calendar/open-source-summit-europe/
LOCATION:Convention Centre Dublin\, Spencer Dock\, N Wall Quay\, North Wall\, Dublin\, D01 T1W6\, Ireland
CATEGORIES:Events OpenUK will be at
ATTACH;FMTTYPE=image/jpeg:https://openuk.uk/wp-content/uploads/2022/03/oss-europe.jpeg
END:VEVENT
BEGIN:VEVENT
DTSTART;VALUE=DATE:20220914
DTEND;VALUE=DATE:20220916
DTSTAMP:20260422T170540
CREATED:20220422T181015Z
LAST-MODIFIED:20220422T181015Z
UID:23479-1663113600-1663286399@openuk.uk
SUMMARY:FIWARE Global Summit
DESCRIPTION:Get ready for two days of world-class innovation\, collaboration\, and networking \nOur two-days physical Summit is back – and we cannot wait to see you all again! \nPlay a key role in a truly smart journey to Digital Transformation – be part of this growing global network. \nFIWARE connects all who want to change the world\, foretell the future and transform markets for the better – based on recognized Open Source technology.
URL:https://openuk.uk/event-calendar/fiware-global-summit/
LOCATION:Gran Canaria\, Spain\, Gran Canaria\, Spain
CATEGORIES:Events of Interest
ATTACH;FMTTYPE=image/jpeg:https://openuk.uk/wp-content/uploads/2022/04/FIWARE-Summit.jpeg
END:VEVENT
BEGIN:VEVENT
DTSTART;VALUE=DATE:20220914
DTEND;VALUE=DATE:20220915
DTSTAMP:20260422T170540
CREATED:20220509T111625Z
LAST-MODIFIED:20220509T111625Z
UID:23646-1663113600-1663199999@openuk.uk
SUMMARY:Uptime by Aiven
DESCRIPTION:The conference for open source data in the cloud.\nUptime brings together developers\, architects\, data engineers\, DevOps professionals\, and anyone who wants to learn about open source data tools. Presentations and discussions will cover everything from sharing best practices to building and operating complex systems at scale. \nOpenUK’s CEO\, Amanda Brock will be a Keynote speaker at this event.
URL:https://openuk.uk/event-calendar/uptime-by-aiven/
LOCATION:Pakhuis de Zwijger\, Piet Heinkade 179\, Amsterdam\, 1019 HC\, Netherlands
CATEGORIES:Events OpenUK will be at
ATTACH;FMTTYPE=image/jpeg:https://openuk.uk/wp-content/uploads/2022/05/Uptime-Amanda-Card.jpeg
ORGANIZER;CN="Aiven":MAILTO:https://uptime.aiven.io/
END:VEVENT
END:VCALENDAR