BEGIN:VCALENDAR
VERSION:2.0
PRODID:-//OpenUK - ECPv6.15.20//NONSGML v1.0//EN
CALSCALE:GREGORIAN
METHOD:PUBLISH
X-WR-CALNAME:OpenUK
X-ORIGINAL-URL:https://openuk.uk
X-WR-CALDESC:Events for OpenUK
REFRESH-INTERVAL;VALUE=DURATION:PT1H
X-Robots-Tag:noindex
X-PUBLISHED-TTL:PT1H
BEGIN:VTIMEZONE
TZID:UTC
BEGIN:STANDARD
TZOFFSETFROM:+0000
TZOFFSETTO:+0000
TZNAME:UTC
DTSTART:20210101T000000
END:STANDARD
END:VTIMEZONE
BEGIN:VEVENT
DTSTART;VALUE=DATE:20220922
DTEND;VALUE=DATE:20220923
DTSTAMP:20260422T170540
CREATED:20220922T112308Z
LAST-MODIFIED:20230705T112457Z
UID:34295-1663804800-1663891199@openuk.uk
SUMMARY:FT Cyber Resilience Summit
DESCRIPTION:FT Cyber Resilience Summit\, Panel\, “Cyber Resilience in Developing Economies: Fostering safe digital transformation”\, Lausanne
URL:https://openuk.uk/event-calendar/ft-cyber-resilience-summit/
LOCATION:Lausanne
CATEGORIES:Events OpenUK will be at
ATTACH;FMTTYPE=image/png:https://openuk.uk/wp-content/uploads/2023/07/220922-FT-Cyber-Resilience-Summit-Panel-Cyber-Resilience-in-Developing-Economies-Fostering-safe-digital-transformation-Lausanne.png
END:VEVENT
END:VCALENDAR