BEGIN:VCALENDAR
VERSION:2.0
PRODID:-//OpenUK - ECPv6.15.20//NONSGML v1.0//EN
CALSCALE:GREGORIAN
METHOD:PUBLISH
X-WR-CALNAME:OpenUK
X-ORIGINAL-URL:https://openuk.uk
X-WR-CALDESC:Events for OpenUK
REFRESH-INTERVAL;VALUE=DURATION:PT1H
X-Robots-Tag:noindex
X-PUBLISHED-TTL:PT1H
BEGIN:VTIMEZONE
TZID:UTC
BEGIN:STANDARD
TZOFFSETFROM:+0000
TZOFFSETTO:+0000
TZNAME:UTC
DTSTART:20210101T000000
END:STANDARD
END:VTIMEZONE
BEGIN:VEVENT
DTSTART;VALUE=DATE:20220929
DTEND;VALUE=DATE:20221001
DTSTAMP:20260422T153219
CREATED:20220615T101532Z
LAST-MODIFIED:20220615T101532Z
UID:24141-1664409600-1664582399@openuk.uk
SUMMARY:Devopsdays London
DESCRIPTION:The first DevOpsDays was held in Ghent\, Belgium in 2009. Since then\, DevOpsDays events have multiplied and expanded globally with over 55 events in for 2018. \nDevOpsDays is a worldwide series of community run technical conferences covering topics of software development\, IT infrastructure operations\, and the intersection between them. It is run by volunteers from community\, for the benefit of the community. We are not a commercial conference and we believe that our focus on serving the community creates a truly unique experience for both delegates and sponsors. \nWe expect 350 people (depending on COVID-19 guidance) this year and will be holding the event on September 29-30th at the Kia Oval\, Kennington\, London. \nFor the first time this year we will offer interactive online tickets as well. \nThe format of DevOpsDays London includes a single track of 30 minute talks in the morning of each event\, followed by Ignite talks (5 minute\, auto forwarding). We spend the rest of the afternoon in Open Spaces\, which are considered a key portion of the event.
URL:https://openuk.uk/event-calendar/devopsdays-london/
LOCATION:London
CATEGORIES:Events of Interest
ATTACH;FMTTYPE=image/png:https://openuk.uk/wp-content/uploads/2022/06/Screenshot-2022-06-15-at-03.13.26.png
END:VEVENT
BEGIN:VEVENT
DTSTART;TZID=UTC:20220929T100000
DTEND;TZID=UTC:20220929T170000
DTSTAMP:20260422T153219
CREATED:20220721T110535Z
LAST-MODIFIED:20220721T110535Z
UID:25341-1664445600-1664470800@openuk.uk
SUMMARY:Bitkom Forum Open Source 2022
DESCRIPTION:“The headlines about log4j were only a few weeks ago and have triggered an intensive discussion about the security of open source software\, but also about software supply chains in general. For in addition to the criticality of individual programme libraries and modules\, it is becoming clear that critical dependencies can put entire software stacks and software supply chains at risk. This was recently joined by a (renewed) debate about the funding of critical open source packages\, which was triggered by the developer of the open source projects Colors.js and Faker.js [1]. \nAt the same time\, open source has arrived in the German economy. This is clearly demonstrated by the figures of the Bitkom Open Source Monitor 2021. The deployment and use of open source is part of the daily business for many companies and organisations. This raises numerous questions about the fundamental but above all the secure use of open source software. \nThe 8th Bitkom Forum Open Source (#bfoss22) will address various aspects of the security of and with open source and offer a stage for impulses\, ideas\, and initiatives. Because the successful deployment and use of open source software requires trust and competence: Open Source. But secure!”
URL:https://openuk.uk/event-calendar/bitkom-forum-open-source-2022/
LOCATION:Arena Erfurt at the Steigerwaldstadion\, Arena Erfurt at the Steigerwaldstadion\, Mozartallee 3\, 99096\, Germany
CATEGORIES:Events of Interest
ATTACH;FMTTYPE=image/svg+xml:https://openuk.uk/wp-content/uploads/2022/07/Bitkom-Logo.svg
END:VEVENT
END:VCALENDAR