BEGIN:VCALENDAR
VERSION:2.0
PRODID:-//OpenUK - ECPv6.15.20//NONSGML v1.0//EN
CALSCALE:GREGORIAN
METHOD:PUBLISH
X-ORIGINAL-URL:https://openuk.uk
X-WR-CALDESC:Events for OpenUK
REFRESH-INTERVAL;VALUE=DURATION:PT1H
X-Robots-Tag:noindex
X-PUBLISHED-TTL:PT1H
BEGIN:VTIMEZONE
TZID:UTC
BEGIN:STANDARD
TZOFFSETFROM:+0000
TZOFFSETTO:+0000
TZNAME:UTC
DTSTART:20210101T000000
END:STANDARD
END:VTIMEZONE
BEGIN:VEVENT
DTSTART;VALUE=DATE:20221024
DTEND;VALUE=DATE:20221029
DTSTAMP:20260422T153416
CREATED:20220722T095036Z
LAST-MODIFIED:20220722T095125Z
UID:25428-1666569600-1667001599@openuk.uk
SUMMARY:KubeCon + CloudNativeCon North America 2022
DESCRIPTION:The Cloud Native Computing Foundation’s flagship conference gathers adopters and technologists from leading open source and cloud native communities in Detroit\, Michigan from October 24 – 28\, 2022. Join containerd\, CoreDNS\, Envoy\, etcd\, Fluentd\, Harbor\, Helm\, Jaeger\, Kubernetes\, Linkerd\, Open Policy Agent\, Prometheus\, Rook\, TiKV\, TUF\, Vitess\, Argo\, Buildpacks\, Cilium\, CloudEvents\, CNI\, Contour\, Cortex\, CRI-O\, Crossplane\, dapr\, Dragonfly\, Emissary Ingress\, Falco\, Flagger\, Flux\, gRPC\, KEDA\, KubeEdge\, Litmus\, Longhorn\, NATS\, Notary\, OpenTelemetry\, Operator Framework\, SPIFFE\, SPIRE\, and Thanos as the community gathers for five days to further the education and advancement of cloud native computing.
URL:https://openuk.uk/event-calendar/kubecon-cloudnativecon-north-america-2022/
LOCATION:Detroit\, Michigan
CATEGORIES:Events OpenUK will be at
ATTACH;FMTTYPE=image/png:https://openuk.uk/wp-content/uploads/2022/07/Screenshot-2022-07-22-at-10.49.51.png
END:VEVENT
BEGIN:VEVENT
DTSTART;VALUE=DATE:20221024
DTEND;VALUE=DATE:20221026
DTSTAMP:20260422T153416
CREATED:20221025T171543Z
LAST-MODIFIED:20221025T171628Z
UID:27508-1666569600-1666742399@openuk.uk
SUMMARY:Cloud Native SecurityCon
DESCRIPTION:Cloud Native SecurityCon is designed to foster collaboration\, discussion and knowledge sharing of cloud native security projects and how to best use these to address security challenges and opportunities. The goal is not just to propose solutions that incrementally improve what has come before\, but to give room to breakthrough technology and advances in modern security approaches. Topics of sessions and lightning talks presented by expert practitioners include architecture and policy\, secure software development\, supply chain security\, identity and access\, forensics\, and more.
URL:https://openuk.uk/event-calendar/cloud-native-securitycon/
CATEGORIES:Events of Interest
ATTACH;FMTTYPE=image/png:https://openuk.uk/wp-content/uploads/2022/10/Screen-Shot-2022-10-25-at-1.16.03-PM.png
END:VEVENT
BEGIN:VEVENT
DTSTART;TZID=UTC:20221025T180000
DTEND;TZID=UTC:20221025T210000
DTSTAMP:20260422T153416
CREATED:20221024T165008Z
LAST-MODIFIED:20221025T171710Z
UID:27382-1666720800-1666731600@openuk.uk
SUMMARY:OpenUK London Meet-Up
DESCRIPTION:Join us for our first London Meet Up on 25 October 2022 at 10 Chiswell Street\, London\,  thanks to Avanade’s sponsorship. \nThis month’s event will feature Fergus Kidd and Szymon Duchniewicz from Avanade as speakers.
URL:https://openuk.uk/event-calendar/openuk-london-meet-up/
LOCATION:Avanade\, 30 Fenchurch St\, London\, City of London\, EC3M 3BD\, United Kingdom
CATEGORIES:Meetups,OpenUK Events
ATTACH;FMTTYPE=image/jpeg:https://openuk.uk/wp-content/uploads/2022/10/MEETUP-SOCIAL-CARDS.pptx-2-1.jpg
END:VEVENT
END:VCALENDAR