BEGIN:VCALENDAR
VERSION:2.0
PRODID:-//OpenUK - ECPv6.15.20//NONSGML v1.0//EN
CALSCALE:GREGORIAN
METHOD:PUBLISH
X-ORIGINAL-URL:https://openuk.uk
X-WR-CALDESC:Events for OpenUK
REFRESH-INTERVAL;VALUE=DURATION:PT1H
X-Robots-Tag:noindex
X-PUBLISHED-TTL:PT1H
BEGIN:VTIMEZONE
TZID:UTC
BEGIN:STANDARD
TZOFFSETFROM:+0000
TZOFFSETTO:+0000
TZNAME:UTC
DTSTART:20210101T000000
END:STANDARD
END:VTIMEZONE
BEGIN:VEVENT
DTSTART;VALUE=DATE:20221107
DTEND;VALUE=DATE:20221203
DTSTAMP:20260422T121813
CREATED:20221107T111637Z
LAST-MODIFIED:20221107T111637Z
UID:27889-1667779200-1670025599@openuk.uk
SUMMARY:SCALE 20x - Call For Papers
DESCRIPTION:Pasadena on March 9-12\, 2023 \nThe Call for Papers is open until December 02\, 2022. Proposals maybe submitted via the SCALE website at:\nwww.socallinuxexpo.org/scale/20x/cfp/ \nDetails about previous presentations and activities at SCALE can be found at:\nwww.socallinuxexpo.org/scale/19x
URL:https://openuk.uk/event-calendar/scale-20x-call-for-papers/
CATEGORIES:Call for Papers
ATTACH;FMTTYPE=image/svg+xml:https://openuk.uk/wp-content/uploads/2022/11/scale_logo_lg.svg
END:VEVENT
BEGIN:VEVENT
DTSTART;VALUE=DATE:20221108
DTEND;VALUE=DATE:20221111
DTSTAMP:20260422T121813
CREATED:20211224T113853Z
LAST-MODIFIED:20211224T114003Z
UID:21024-1667865600-1668124799@openuk.uk
SUMMARY:Linux Foundation Member Summit
DESCRIPTION:An annual gathering for Linux Foundation members that fosters collaboration\, innovation\, and partnerships among the leading projects and organizations working to drive digital transformation with open source technologies.
URL:https://openuk.uk/event-calendar/linux-foundation-member-summit/
LOCATION:Lake Tahoe\, California
CATEGORIES:Events of Interest
ATTACH;FMTTYPE=image/png:https://openuk.uk/wp-content/uploads/2021/12/linux_foundation_member_summit.png
END:VEVENT
BEGIN:VEVENT
DTSTART;TZID=UTC:20221108T080000
DTEND;TZID=UTC:20221108T170000
DTSTAMP:20260422T121813
CREATED:20221027T163500Z
LAST-MODIFIED:20230705T113209Z
UID:27580-1667894400-1667926800@openuk.uk
SUMMARY:ODI Summit 2022
DESCRIPTION:Join the ODI and OpenUK friends and colleagues at the ODI (Open Data Institute) Summit 2022! Amanda Brock will be hosting a panel on 8 November. This year’s event focuses on the last ten years of open data (and data across the spectrum). Hurry! Claim your free ticket now by clicking this link (first come\, first served). No free tickets left? Buy your £99 ticket here. \nThis event will take place virtually.
URL:https://openuk.uk/event-calendar/odi-summit-2022/
LOCATION:Virtual
CATEGORIES:Events of Interest,Events OpenUK will be at
ATTACH;FMTTYPE=image/png:https://openuk.uk/wp-content/uploads/2022/10/Screen-Shot-2022-10-27-at-10.37.22-AM.png
END:VEVENT
BEGIN:VEVENT
DTSTART;TZID=UTC:20221108T090000
DTEND;TZID=UTC:20221108T173000
DTSTAMP:20260422T121813
CREATED:20221025T144014Z
LAST-MODIFIED:20221025T144014Z
UID:27454-1667898000-1667928600@openuk.uk
SUMMARY:FutureStack - London
DESCRIPTION:What is FutureStack?\n{Future}Stack is our FREE conference for software engineers by engineers where creators come together to see how end-to-end observability gives them the data to plan\, build\, deploy\, and run great software. We’ll cover topics including alerts\, best practices for tool consolidation\, cloud migration\, machine learning\, and more…
URL:https://openuk.uk/event-calendar/futurestack-london/
LOCATION:The Steel Yard\, Allhallows Lane\, London\, EC4R 3UE\, The Steel Yard\, Allhallows Lane\, London\, EC4R 3UE\, United Kingdom
CATEGORIES:Events of Interest
ATTACH;FMTTYPE=image/png:https://openuk.uk/wp-content/uploads/2022/10/Screen-Shot-2022-10-25-at-10.39.16-AM.png
END:VEVENT
END:VCALENDAR