BEGIN:VCALENDAR
VERSION:2.0
PRODID:-//OpenUK - ECPv6.15.20//NONSGML v1.0//EN
CALSCALE:GREGORIAN
METHOD:PUBLISH
X-ORIGINAL-URL:https://openuk.uk
X-WR-CALDESC:Events for OpenUK
REFRESH-INTERVAL;VALUE=DURATION:PT1H
X-Robots-Tag:noindex
X-PUBLISHED-TTL:PT1H
BEGIN:VTIMEZONE
TZID:UTC
BEGIN:STANDARD
TZOFFSETFROM:+0000
TZOFFSETTO:+0000
TZNAME:UTC
DTSTART:20210101T000000
END:STANDARD
END:VTIMEZONE
BEGIN:VEVENT
DTSTART;VALUE=DATE:20221207
DTEND;VALUE=DATE:20221208
DTSTAMP:20260422T103322
CREATED:20211224T114427Z
LAST-MODIFIED:20211224T114427Z
UID:21048-1670371200-1670457599@openuk.uk
SUMMARY:Open Compliance Summit
DESCRIPTION:An exclusive\, annual event for Linux Foundation members and select invitees that provides an excellent opportunity for organizations to share knowledge around open source compliance.
URL:https://openuk.uk/event-calendar/open-compliance-summit/
LOCATION:Yokohama\, Japan
CATEGORIES:Events of Interest
ATTACH;FMTTYPE=image/png:https://openuk.uk/wp-content/uploads/2021/12/open_compliance_summit.png
END:VEVENT
END:VCALENDAR