BEGIN:VCALENDAR
VERSION:2.0
PRODID:-//OpenUK - ECPv6.15.20//NONSGML v1.0//EN
CALSCALE:GREGORIAN
METHOD:PUBLISH
X-WR-CALNAME:OpenUK
X-ORIGINAL-URL:https://openuk.uk
X-WR-CALDESC:Events for OpenUK
REFRESH-INTERVAL;VALUE=DURATION:PT1H
X-Robots-Tag:noindex
X-PUBLISHED-TTL:PT1H
BEGIN:VTIMEZONE
TZID:UTC
BEGIN:STANDARD
TZOFFSETFROM:+0000
TZOFFSETTO:+0000
TZNAME:UTC
DTSTART:20220101T000000
END:STANDARD
END:VTIMEZONE
BEGIN:VEVENT
DTSTART;VALUE=DATE:20230416
DTEND;VALUE=DATE:20230418
DTSTAMP:20260420T040532
CREATED:20230416T110452Z
LAST-MODIFIED:20230705T110828Z
UID:34247-1681603200-1681775999@openuk.uk
SUMMARY:Cloud Native Rejekts
DESCRIPTION:
URL:https://openuk.uk/event-calendar/cloud-native-rejekts/
LOCATION:Amsterdam
CATEGORIES:Events OpenUK will be at
ATTACH;FMTTYPE=image/jpeg:https://openuk.uk/wp-content/uploads/2023/07/230416Cloud-Native-Rejekts-Talk-_Will-Open-Source-Fail__-Amsterdam.jpeg
END:VEVENT
END:VCALENDAR