BEGIN:VCALENDAR
VERSION:2.0
PRODID:-//OpenUK - ECPv6.15.20//NONSGML v1.0//EN
CALSCALE:GREGORIAN
METHOD:PUBLISH
X-ORIGINAL-URL:https://openuk.uk
X-WR-CALDESC:Events for OpenUK
REFRESH-INTERVAL;VALUE=DURATION:PT1H
X-Robots-Tag:noindex
X-PUBLISHED-TTL:PT1H
BEGIN:VTIMEZONE
TZID:UTC
BEGIN:STANDARD
TZOFFSETFROM:+0000
TZOFFSETTO:+0000
TZNAME:UTC
DTSTART:20220101T000000
END:STANDARD
END:VTIMEZONE
BEGIN:VEVENT
DTSTART;VALUE=DATE:20230417
DTEND;VALUE=DATE:20230422
DTSTAMP:20260420T040554
CREATED:20221025T172054Z
LAST-MODIFIED:20221025T172054Z
UID:27517-1681689600-1682121599@openuk.uk
SUMMARY:KubeCon | CloudNativeCon Europe
DESCRIPTION:The Cloud Native Computing Foundation’s flagship conference gathers adopters and technologists from leading open source and cloud native communities in Amsterdam\, The Netherlands from April 17-21\, 2023. Join containerd\, CoreDNS\, Envoy\, etcd\, Fluentd\, Harbor\, Helm\, Jaeger\, Kubernetes\, Linkerd\, Open Policy Agent\, Prometheus\, Rook\, TiKV\, TUF\, Vitess\, Argo\, Backstage\, Buildpacks\, Chaos Mesh\, Cilium\, CloudEvents\, CNI\, Contour\, Cortex\, CRI-O\, Crossplane\, CubeFS\, dapr\, Dragonfly\, Emissary Ingress\, Falco\, Flagger\, Flux\, gRPC\, Hubble\, in-toto\, KEDA\, Keptn\, Knativec\, KubeEdge\, KubeVirt\, Kyverno\, Litmus\, Longhorn\, NATS\, Notary\, OpenMetrics\, OpenTelemetry\, Operator Framework\, SPIFFE\, SPIRE\, Tetragon\, Thanos\, and Volcano as the community gathers for five days to further the education and advancement of cloud native computing.
URL:https://openuk.uk/event-calendar/kubecon-cloudnativecon-europe/
CATEGORIES:Events of Interest
ATTACH;FMTTYPE=image/png:https://openuk.uk/wp-content/uploads/2022/10/Screen-Shot-2022-10-25-at-1.20.16-PM.png
END:VEVENT
BEGIN:VEVENT
DTSTART;VALUE=DATE:20230419
DTEND;VALUE=DATE:20230424
DTSTAMP:20260420T040554
CREATED:20230302T100306Z
LAST-MODIFIED:20230302T100306Z
UID:31615-1681862400-1682294399@openuk.uk
SUMMARY:PyCon
DESCRIPTION:April 19-23\, 2023 \nSalt Lake City\, UT
URL:https://openuk.uk/event-calendar/pycon/
CATEGORIES:Events of Interest
ATTACH;FMTTYPE=image/png:https://openuk.uk/wp-content/uploads/2023/03/Screenshot-2023-03-02-at-10.02.49.png
END:VEVENT
BEGIN:VEVENT
DTSTART;TZID=UTC:20230419T080000
DTEND;TZID=UTC:20230419T170000
DTSTAMP:20260420T040554
CREATED:20230419T110923Z
LAST-MODIFIED:20230705T111044Z
UID:34259-1681891200-1681923600@openuk.uk
SUMMARY:Open Compute (OCP Regional Summit 2023)
DESCRIPTION:Amanda gave a keynote on “Will Open Source Fail?” at OCP Regional Summit in Prague.
URL:https://openuk.uk/event-calendar/open-compute-ocp-regional-summit-2023/
LOCATION:Prague
ATTACH;FMTTYPE=image/jpeg:https://openuk.uk/wp-content/uploads/2023/07/230419-OCP-Regional-Summit-2023-Keynote-Will-Open-Source-Fail_-Prague.jpeg
END:VEVENT
END:VCALENDAR