BEGIN:VCALENDAR
VERSION:2.0
PRODID:-//OpenUK - ECPv6.15.20//NONSGML v1.0//EN
CALSCALE:GREGORIAN
METHOD:PUBLISH
X-WR-CALNAME:OpenUK
X-ORIGINAL-URL:https://openuk.uk
X-WR-CALDESC:Events for OpenUK
REFRESH-INTERVAL;VALUE=DURATION:PT1H
X-Robots-Tag:noindex
X-PUBLISHED-TTL:PT1H
BEGIN:VTIMEZONE
TZID:UTC
BEGIN:STANDARD
TZOFFSETFROM:+0000
TZOFFSETTO:+0000
TZNAME:UTC
DTSTART:20220101T000000
END:STANDARD
END:VTIMEZONE
BEGIN:VEVENT
DTSTART;VALUE=DATE:20230424
DTEND;VALUE=DATE:20230519
DTSTAMP:20260420T022755
CREATED:20230327T140619Z
LAST-MODIFIED:20230327T140619Z
UID:31951-1682294400-1684454399@openuk.uk
SUMMARY:Global Accessibility Awareness Day Hackathon
DESCRIPTION:Mon 24 Apr – Thu 18 May 2023 \nPresented by: FINOS
URL:https://openuk.uk/event-calendar/global-accessibility-awareness-day-hackathon/
CATEGORIES:Events of Interest
ATTACH;FMTTYPE=image/png:https://openuk.uk/wp-content/uploads/2023/03/Screen-Shot-2023-03-24-at-7.15.23-AM.png
END:VEVENT
BEGIN:VEVENT
DTSTART;VALUE=DATE:20230510
DTEND;VALUE=DATE:20230513
DTSTAMP:20260420T022755
CREATED:20230118T114816Z
LAST-MODIFIED:20230118T114850Z
UID:28969-1683676800-1683935999@openuk.uk
SUMMARY:Open Source Summit in Vancouver
DESCRIPTION:The Linux Foundation’s Open Source Summit in Vancouver
URL:https://openuk.uk/event-calendar/open-source-summit-in-vancouver/
CATEGORIES:Events of Interest
ATTACH;FMTTYPE=image/png:https://openuk.uk/wp-content/uploads/2023/01/Screen-Shot-2023-01-18-at-6.47.50-AM.png
END:VEVENT
BEGIN:VEVENT
DTSTART;VALUE=DATE:20230510
DTEND;VALUE=DATE:20230511
DTSTAMP:20260420T022755
CREATED:20230509T103622Z
LAST-MODIFIED:20230509T103622Z
UID:32804-1683676800-1683763199@openuk.uk
SUMMARY:Open SSF Day
DESCRIPTION:May 10\, 2023\nVancouver\, BC
URL:https://openuk.uk/event-calendar/open-ssf-day/
CATEGORIES:Events of Interest,Events OpenUK will be at
ATTACH;FMTTYPE=image/png:https://openuk.uk/wp-content/uploads/2023/05/Session_Panel_DEI.png
END:VEVENT
END:VCALENDAR