BEGIN:VCALENDAR
VERSION:2.0
PRODID:-//OpenUK - ECPv6.15.20//NONSGML v1.0//EN
CALSCALE:GREGORIAN
METHOD:PUBLISH
X-ORIGINAL-URL:https://openuk.uk
X-WR-CALDESC:Events for OpenUK
REFRESH-INTERVAL;VALUE=DURATION:PT1H
X-Robots-Tag:noindex
X-PUBLISHED-TTL:PT1H
BEGIN:VTIMEZONE
TZID:UTC
BEGIN:STANDARD
TZOFFSETFROM:+0000
TZOFFSETTO:+0000
TZNAME:UTC
DTSTART:20220101T000000
END:STANDARD
END:VTIMEZONE
BEGIN:VEVENT
DTSTART;VALUE=DATE:20230619
DTEND;VALUE=DATE:20230624
DTSTAMP:20260420T004400
CREATED:20230519T125158Z
LAST-MODIFIED:20230519T125158Z
UID:33128-1687132800-1687564799@openuk.uk
SUMMARY:CommCon 2023
DESCRIPTION:Amanda Brock will be keynoting
URL:https://openuk.uk/event-calendar/commcon-2023/
CATEGORIES:Events of Interest,Events OpenUK will be at
ATTACH;FMTTYPE=image/png:https://openuk.uk/wp-content/uploads/2023/05/Screenshot-2023-05-19-at-13.51.29.png
END:VEVENT
BEGIN:VEVENT
DTSTART;VALUE=DATE:20230622
DTEND;VALUE=DATE:20230625
DTSTAMP:20260420T004400
CREATED:20230302T101256Z
LAST-MODIFIED:20230302T101256Z
UID:31642-1687392000-1687651199@openuk.uk
SUMMARY:Africa Open Source Festival
DESCRIPTION:June 22-24\, 2023 \nLagos\, Nigeria
URL:https://openuk.uk/event-calendar/africa-open-source-festival/
CATEGORIES:Events of Interest
ATTACH;FMTTYPE=image/png:https://openuk.uk/wp-content/uploads/2023/03/Screenshot-2023-03-02-at-10.12.35.png
END:VEVENT
BEGIN:VEVENT
DTSTART;TZID=UTC:20230622T180000
DTEND;TZID=UTC:20230622T210000
DTSTAMP:20260420T004400
CREATED:20230517T114446Z
LAST-MODIFIED:20230622T150510Z
UID:32963-1687456800-1687467600@openuk.uk
SUMMARY:London Meet Up - 22 June - Midsummer Madness
DESCRIPTION:Join us for our June Midsummer Madness Meetup at \nThe Forum\, 5th Floor\, 30 Fenchurch Street\, London\, EC3M 3BD \nNearest train stations: Bank & Monument\, Fenchurch Street train station \nDate: 22 June\nTime: 6pm-9pm \nNearest train stations: Bank & Monument tube stop <6 mins walk; and Fenchurch Street train station: <3 mins walk.  This event will be a little different to previous events – we’ll be running it in “The Forum” on the 5th Floor of the building. Pizza and Ice Cream will be served. \nPlease see the pop-up sign in the lobby\, and enter the door on the left in the ground floor. \nWe’ll be talking about how to engage with open source communities and make your first contribution  -the recurring theme of our last few meetups. \nSpeaker: Kunal Kushwana \nFireSide Chat: Hosted by Cheryl Hung \nCommunity Game: Carla Gaggini and Dominic Top \nMidSummer Madness Hosted by: Bart Farrell \nAll Welcome\, any questions\, contact admin@openuk.uk
URL:https://openuk.uk/event-calendar/london-meet-up-22-june/
LOCATION:The Forum\, 5th Floor\, 30 Fenchurch Street\, London\, EC3M 3BD\, United Kingdom
CATEGORIES:Meetups,OpenUK Events
ATTACH;FMTTYPE=image/png:https://openuk.uk/wp-content/uploads/2022/09/Screen_Shot_2022-09-21_at_6.42.51_AM-removebg-preview-e1663760887199.png
END:VEVENT
END:VCALENDAR