BEGIN:VCALENDAR
VERSION:2.0
PRODID:-//OpenUK - ECPv6.15.20//NONSGML v1.0//EN
CALSCALE:GREGORIAN
METHOD:PUBLISH
X-WR-CALNAME:OpenUK
X-ORIGINAL-URL:https://openuk.uk
X-WR-CALDESC:Events for OpenUK
REFRESH-INTERVAL;VALUE=DURATION:PT1H
X-Robots-Tag:noindex
X-PUBLISHED-TTL:PT1H
BEGIN:VTIMEZONE
TZID:UTC
BEGIN:STANDARD
TZOFFSETFROM:+0000
TZOFFSETTO:+0000
TZNAME:UTC
DTSTART:20220101T000000
END:STANDARD
END:VTIMEZONE
BEGIN:VEVENT
DTSTART;TZID=UTC:20230712T170000
DTEND;TZID=UTC:20230712T200000
DTSTAMP:20260419T230525
CREATED:20230629T160110Z
LAST-MODIFIED:20230629T160110Z
UID:34190-1689181200-1689192000@openuk.uk
SUMMARY:Cloud Anonymous
DESCRIPTION:We’re debunking myths\, discussing the realities of cloud adoption and exploring when the term cloud\, became so clouded. We’re bringing together cloud architects\, engineers and technologists to unpick the unspoken realities of cloud – tackling topics such as reliance on suppliers\, data sovereignty\, sustainability and more. \nNo bulls**t – just open debate and discussion with peers \nRegister now to reserve your space and join the radical honesty movement. \nAmanda Brock\, CEO of OpenUK\, will be giving a talk along with Founder and film director Daniel Tremayne-Pitter\, CISO & Cloud Security Podcast host Ashish Rajan\, and ControlPlane CEO Andrew Martin.
URL:https://openuk.uk/event-calendar/cloud-anonymous/
LOCATION:The Vintry\, EC4 The Vintry\, Off Abchurch Lane Abchurch Lane London EC4N 5AX\, United Kingdom
CATEGORIES:Events OpenUK will be at
ATTACH;FMTTYPE=image/png:https://openuk.uk/wp-content/uploads/2023/06/230712-Cloud-Anonymous.png
END:VEVENT
END:VCALENDAR