BEGIN:VCALENDAR
VERSION:2.0
PRODID:-//OpenUK - ECPv6.15.20//NONSGML v1.0//EN
CALSCALE:GREGORIAN
METHOD:PUBLISH
X-WR-CALNAME:OpenUK
X-ORIGINAL-URL:https://openuk.uk
X-WR-CALDESC:Events for OpenUK
REFRESH-INTERVAL;VALUE=DURATION:PT1H
X-Robots-Tag:noindex
X-PUBLISHED-TTL:PT1H
BEGIN:VTIMEZONE
TZID:UTC
BEGIN:STANDARD
TZOFFSETFROM:+0000
TZOFFSETTO:+0000
TZNAME:UTC
DTSTART:20220101T000000
END:STANDARD
END:VTIMEZONE
BEGIN:VEVENT
DTSTART;TZID=UTC:20230907T080000
DTEND;TZID=UTC:20230907T170000
DTSTAMP:20260419T194137
CREATED:20230824T153703Z
LAST-MODIFIED:20230824T153703Z
UID:35851-1694073600-1694106000@openuk.uk
SUMMARY:Percona University London: Open Source Databases Meetup
DESCRIPTION:We are pleased to invite you to a free one-day tech event in London\, UK. \nIn partnership with FerretDB. \nThis is an excellent opportunity to discover more about open source software\, tools\, and services\, and to bring your open source database questions to our experts and featured speakers. Build your knowledge and get up to speed on hot database topics. \nDon’t miss out on this unique opportunity to network with your peers\, discover and hear how others are solving their database challenges! \n\nInternational experts recognized as the most influential in the database and open-source community such as Peter Zaitsev and Amanda Brock;\n5-hour meetup of knowledge and network\, personal certificate of completion to each attendee;\nTalks about PostgreSQL\, MySQL\, MongoDB\, Kubernetes\, and other Open Source solutions.\n\nPresentations will be provided in English. \nAttendance is FREE! Space is limited\, so register today to save your spot.
URL:https://openuk.uk/event-calendar/percona-university-london-open-source-databases-meetup/
LOCATION:University of London
CATEGORIES:Events OpenUK will be at
ATTACH;FMTTYPE=image/png:https://openuk.uk/wp-content/uploads/2023/08/Percona-University-London2.png
END:VEVENT
END:VCALENDAR