BEGIN:VCALENDAR
VERSION:2.0
PRODID:-//OpenUK - ECPv6.15.20//NONSGML v1.0//EN
CALSCALE:GREGORIAN
METHOD:PUBLISH
X-ORIGINAL-URL:https://openuk.uk
X-WR-CALDESC:Events for OpenUK
REFRESH-INTERVAL;VALUE=DURATION:PT1H
X-Robots-Tag:noindex
X-PUBLISHED-TTL:PT1H
BEGIN:VTIMEZONE
TZID:UTC
BEGIN:STANDARD
TZOFFSETFROM:+0000
TZOFFSETTO:+0000
TZNAME:UTC
DTSTART:20220101T000000
END:STANDARD
END:VTIMEZONE
BEGIN:VEVENT
DTSTART;VALUE=DATE:20230912
DTEND;VALUE=DATE:20230913
DTSTAMP:20260419T194420
CREATED:20230703T103644Z
LAST-MODIFIED:20230703T103753Z
UID:34217-1694476800-1694563199@openuk.uk
SUMMARY:Borderless Cyber
DESCRIPTION:Borderless Cyber Conference\nRoyal Holloway\, University of London\nhttps://borderlesscyber2023.oasis-open.org \nOASIS Open and Royal Holloway\, University of London will host a unique conference\, focusing on the convergence of the cybersecurity and privacy disciplines and addressing new technologies\, research\, operationalization realities\, risks\, and solutions. It will bring together international experts and offers opportunities for networking\, good dialogue\, and future collaboration. \nAnyone from industry\, government\, or academia responsible for developing\, influencing\, regulating\, and managing security and privacy risks in networked applications – are welcome to join. \nOur OpenUK community is entitled to a 25% discount. Use the code ‘BC-Open’ by 30 July. Affordable accommodation is available on campus and nearby in Egham\, Windsor and Slough. The Royal Holloway campus is accessible by train from London and only 15 minutes from Heathrow. \nAmanda Brock\, CEO\, OpenUK\, will be giving a talk on “Open Source AI”.
URL:https://openuk.uk/event-calendar/borderless-cyber/
LOCATION:Royal Holloway\, University of London\, United Kingdom
CATEGORIES:Events OpenUK will be at
ATTACH;FMTTYPE=image/png:https://openuk.uk/wp-content/uploads/2023/07/BC-Ad.png
END:VEVENT
END:VCALENDAR