BEGIN:VCALENDAR
VERSION:2.0
PRODID:-//OpenUK - ECPv6.15.20//NONSGML v1.0//EN
CALSCALE:GREGORIAN
METHOD:PUBLISH
X-ORIGINAL-URL:https://openuk.uk
X-WR-CALDESC:Events for OpenUK
REFRESH-INTERVAL;VALUE=DURATION:PT1H
X-Robots-Tag:noindex
X-PUBLISHED-TTL:PT1H
BEGIN:VTIMEZONE
TZID:UTC
BEGIN:STANDARD
TZOFFSETFROM:+0000
TZOFFSETTO:+0000
TZNAME:UTC
DTSTART:20220101T000000
END:STANDARD
END:VTIMEZONE
BEGIN:VEVENT
DTSTART;TZID=UTC:20230918T080000
DTEND;TZID=UTC:20230918T170000
DTSTAMP:20260419T194420
CREATED:20230914T142531Z
LAST-MODIFIED:20230914T142531Z
UID:35968-1695024000-1695056400@openuk.uk
SUMMARY:SODA DATA VISION 23
DESCRIPTION:Amanda Brock\, CEO at OpenUK\, will be talking on a panel with Andrew Martin about “Let us talk about Data Governance and Regulations”. \nSODA Data Vision 2023\, by SODA Foundation\, is the premier open source conference for Data and Storage Management. This one day hybrid event\, In conjunction with OSS Europe 2023\, will bring together 650 (150 in-person) leading experts\, architects\, developers\, end users\, vendors and integrators to discuss the most recent innovations\, future trends\, real use cases\, and practical challenges for data and storage. It will provide deep insights to current solutions\, research and how the future is getting shaped in Data and Storage Management for cloud-native\, containers\, distributed computing\, big data\, AI\, machine learning\, and more. \nIn addition to technical sessions\, the conference provides excellent opportunities for attendees to exchange ideas\, learn the latest technologies in the industry\, networking and find potential partners for collaboration. We look forward to welcoming you at SODA Data Vision 2023.
URL:https://openuk.uk/event-calendar/soda-data-vision-23/
LOCATION:Itsasmuseum Bilbao\, Bilbao\, Spain
CATEGORIES:Events OpenUK will be at
ATTACH;FMTTYPE=image/png:https://openuk.uk/wp-content/uploads/2023/09/Screenshot-2023-09-14-at-14.26.38.png
END:VEVENT
END:VCALENDAR