BEGIN:VCALENDAR
VERSION:2.0
PRODID:-//OpenUK - ECPv6.15.20//NONSGML v1.0//EN
CALSCALE:GREGORIAN
METHOD:PUBLISH
X-WR-CALNAME:OpenUK
X-ORIGINAL-URL:https://openuk.uk
X-WR-CALDESC:Events for OpenUK
REFRESH-INTERVAL;VALUE=DURATION:PT1H
X-Robots-Tag:noindex
X-PUBLISHED-TTL:PT1H
BEGIN:VTIMEZONE
TZID:UTC
BEGIN:STANDARD
TZOFFSETFROM:+0000
TZOFFSETTO:+0000
TZNAME:UTC
DTSTART:20220101T000000
END:STANDARD
END:VTIMEZONE
BEGIN:VEVENT
DTSTART;VALUE=DATE:20230919
DTEND;VALUE=DATE:20230922
DTSTAMP:20260419T194137
CREATED:20230626T093827Z
LAST-MODIFIED:20230626T093827Z
UID:34142-1695081600-1695340799@openuk.uk
SUMMARY:Open Source Summit Europe 2023
DESCRIPTION:Open Source Summit is the premier event for open source developers\, technologists\, and community leaders to collaborate\, share information\, solve problems\, and gain knowledge\, furthering open source innovation and ensuring a sustainable open source ecosystem. It is the gathering place for open-source code and community contributors. \nOpen Source Summit is a conference umbrella\, composed of a collection of events covering the most important technologies\, topics\, and issues affecting open source today. \nAmanda Brock\, CEO of OpenUK\, will be giving a talk about “ADHD – The Power of Diagnosis”.
URL:https://openuk.uk/event-calendar/open-source-summit-europe-2023/
LOCATION:BILBAO\, SPAIN\, Spain
CATEGORIES:Events OpenUK will be at
ATTACH;FMTTYPE=image/png:https://openuk.uk/wp-content/uploads/2023/06/OpenSourceSummit.png
END:VEVENT
BEGIN:VEVENT
DTSTART;TZID=UTC:20230919T180000
DTEND;TZID=UTC:20230919T210000
DTSTAMP:20260419T194137
CREATED:20230824T154807Z
LAST-MODIFIED:20230824T154911Z
UID:35863-1695146400-1695157200@openuk.uk
SUMMARY:OpenUK London Meetup September - Open and AI?
DESCRIPTION:Join us September 19th to discuss the hot topic of 2023: Artificial Intelligence (AI). \nAI is much talked about\, everywhere from the news\, in Parliament\, to the boardroom and pubs across the country\, but\, what really is AI\, and how does openness matter with it? \nTo get things kicked off\, Matt Armstrong-Barnes from HPE will present a level set on AI\, what it is\, who is using it\, what it is being used for\, and possible directions. \nNext Wendy Ding from the Alan Turing Institute and contributor to the recent OpenUK AI Openness Report will discuss the importance of open in AI and why open approaches lead to better results. \nFood and drinks will be provided and there will be plenty of time to chat with other attendees and debate with the speakers. \nThank you once again to Avanade for sponsoring the venue and providing the refreshments. \nMatt Armstrong-Barnes \nAs a Chief Technologist at Hewlett Packard Enterprise\, Matt has a passion for artificial intelligence and data science. \nHe has held senior management positions and been accountable for the overall architecture (including Business\, Security\, Integration and Technology)\, technical risks\, IT strategy\, and technology change for customers. \nHe holds a Degree in Computer Science\, with a Masters in Artificial Intelligence. He is a Fellow of the Institute of Engineering and Technology\, Chartered Fellow of the British Computer Society\, Chartered IT Professional and Chair of Smart Cities at TechUK\, and was awarded the title of Chartered Engineer by the Engineering Council. \nWendy Ding \nJennifer Ding is a senior researcher at The Alan Turing Institute\, co-leading the Research Application Management (RAM) team. Previously\, she was a startup founder and data scientist at several public interest tech companies\, creating data products for industry and government partners. She enjoys massaging data big and small\, and is a co-founder of London Data Week. \nDate: 19 September \nTime: 6:30pm-9pm \nPlease see the pop-up sign in the lobby\, sign yourself in\, and then enter the door on the left in the ground floor. \nAccess to meetup \nIn order to provide visitor passes\, we’ll need you to have a full name set on your profile and you will require ID in order to sign in. \nRefreshments \nDrinks will be served at 6:30pm\, and food will be served after the first talk. \nDial-in link \nMicrosoft Teams meeting \nJoin on your computer\, mobile app or room device \nClick here to join the meeting \nMeeting ID: 239 431 273 213 \nPasscode: FER3uG \nDownload Teams | Join on the web \nOr call in (audio only) \n+44 20 3794 0298\,\,837403425# United Kingdom\, London \nPhone Conference ID:837 403 425# \nFind a local number | Reset PIN
URL:https://openuk.uk/event-calendar/openuk-london-meetup-september-open-and-ai/
LOCATION:Avanade\, 30 Fenchurch St\, London\, City of London\, EC3M 3BD\, United Kingdom
CATEGORIES:Meetups,OpenUK Events
ATTACH;FMTTYPE=image/jpeg:https://openuk.uk/wp-content/uploads/2023/08/19-September-Meet-Up-Card.jpg
END:VEVENT
END:VCALENDAR