BEGIN:VCALENDAR
VERSION:2.0
PRODID:-//OpenUK - ECPv6.15.20//NONSGML v1.0//EN
CALSCALE:GREGORIAN
METHOD:PUBLISH
X-ORIGINAL-URL:https://openuk.uk
X-WR-CALDESC:Events for OpenUK
REFRESH-INTERVAL;VALUE=DURATION:PT1H
X-Robots-Tag:noindex
X-PUBLISHED-TTL:PT1H
BEGIN:VTIMEZONE
TZID:UTC
BEGIN:STANDARD
TZOFFSETFROM:+0000
TZOFFSETTO:+0000
TZNAME:UTC
DTSTART:20220101T000000
END:STANDARD
END:VTIMEZONE
BEGIN:VEVENT
DTSTART;TZID=UTC:20231012T163000
DTEND;TZID=UTC:20231012T210000
DTSTAMP:20260419T181539
CREATED:20230922T120137Z
LAST-MODIFIED:20230922T120137Z
UID:36160-1697128200-1697144400@openuk.uk
SUMMARY:We need to talk about open source
DESCRIPTION:If your company is involved in developing software\, then you’re aware of the importance of open-source code. Developers love it! Legal departments fear it! Questions around compliance\, governance\, and the commercial implications of open source are ubiquitous and multi-faceted. \nEnter the era of generative AI\, and open models are competing with proprietary heavyweights. But which will win out in the long term? And does unfettered access to such technologies help\, or hinder\, the drive towards improved safety and equity? \nWe’re ready to open up on open source at our next Codiphy event. \nThis time\, we’ll be focusing on the commercial aspects of using and offering open-source software\, and on the intersection between open source and AI. \nClick the Register button to join us at EIP’s London office for two panel sessions with top voices in the industry. We’ll end the evening with good food\, good company\, and an open (source) cocktail bar.
URL:https://openuk.uk/event-calendar/we-need-to-talk-about-open-source/
CATEGORIES:Events OpenUK will be at
ATTACH;FMTTYPE=image/png:https://openuk.uk/wp-content/uploads/2023/09/image001.png
END:VEVENT
END:VCALENDAR