BEGIN:VCALENDAR
VERSION:2.0
PRODID:-//OpenUK - ECPv6.15.20//NONSGML v1.0//EN
CALSCALE:GREGORIAN
METHOD:PUBLISH
X-ORIGINAL-URL:https://openuk.uk
X-WR-CALDESC:Events for OpenUK
REFRESH-INTERVAL;VALUE=DURATION:PT1H
X-Robots-Tag:noindex
X-PUBLISHED-TTL:PT1H
BEGIN:VTIMEZONE
TZID:UTC
BEGIN:STANDARD
TZOFFSETFROM:+0000
TZOFFSETTO:+0000
TZNAME:UTC
DTSTART:20220101T000000
END:STANDARD
END:VTIMEZONE
BEGIN:VEVENT
DTSTART;TZID=UTC:20231115T080000
DTEND;TZID=UTC:20231116T170000
DTSTAMP:20260419T164143
CREATED:20231031T110212Z
LAST-MODIFIED:20231031T144208Z
UID:37831-1700035200-1700154000@openuk.uk
SUMMARY:Future of AI Summit 2023
DESCRIPTION:5-16 November 2023\nPowering the next business revolution\nIn-Person & Digital | etc Venues\, 155 Bishopsgate\, London | #FTFutureofAI \nDon’t get left behind \nEveryone is talking about AI. The launch of ChatGPT in November 2022\, an easy-to-use interface that generates original content in a matter of seconds\, has crystalised its potential. Advocates predict it will revolutionise business operations\, bring major productivity gains and hard-to-compete-with advantage. Its critics cite ethical concerns\, worries about scaling bias\, and the impact of AI on jobs. Will AI live up to its promise? Discover what all the fuss is about and properly evaluate the AI opportunity at our flagship Future of AI. \nHow is AI being used to boost productivity and profits? Should you invest in AI tech now\, or would it be better to wait? Is it better to develop in-house talent to build AI capability\, collaborate with a specialist AI partner\, or outsource it entirely? How do you achieve company-wide commitment to making AI the backbone of your business? Are your customers ready? Have you got the right governance structures in place? Get the big picture as well as clear lines of sight from early adopters on how best to explain\, apply\, govern\, integrate\, scale\, and commercialise AI\, wherever you are on your AI Journey. \nFeaturing: \nIn conversation: The AI Divide – Will data inequality destroy healthy competition? (16 Nov 2023) \nGenerating AI’s game-changing future products and services requires large quantities of data\, which may create a market problem. How do smaller companies that can’t afford big data sets compete? Are there cheaper ways to develop large language models (LLMs)? \nAmanda Brock\, CEO\, OpenUK \nSeth Dobrin\, Member of the Board\, AI Governance Board\, former Chief AI Officer\, IBM \nModerator: Murad Ahmed\, Technology News Editor\, Financial Times
URL:https://openuk.uk/event-calendar/future-of-ai-summit-2023/
LOCATION:155 Bishopsgate\, London\, United Kingdom
CATEGORIES:Events OpenUK will be at
ATTACH;FMTTYPE=image/gif:https://openuk.uk/wp-content/uploads/2023/10/amandaGIF.gif
END:VEVENT
END:VCALENDAR