BEGIN:VCALENDAR
VERSION:2.0
PRODID:-//OpenUK - ECPv6.15.20//NONSGML v1.0//EN
CALSCALE:GREGORIAN
METHOD:PUBLISH
X-WR-CALNAME:OpenUK
X-ORIGINAL-URL:https://openuk.uk
X-WR-CALDESC:Events for OpenUK
REFRESH-INTERVAL;VALUE=DURATION:PT1H
X-Robots-Tag:noindex
X-PUBLISHED-TTL:PT1H
BEGIN:VTIMEZONE
TZID:UTC
BEGIN:STANDARD
TZOFFSETFROM:+0000
TZOFFSETTO:+0000
TZNAME:UTC
DTSTART:20220101T000000
END:STANDARD
END:VTIMEZONE
BEGIN:VEVENT
DTSTART;TZID=UTC:20231122T180000
DTEND;TZID=UTC:20231122T210000
DTSTAMP:20260419T163841
CREATED:20231024T152357Z
LAST-MODIFIED:20231114T104811Z
UID:37243-1700676000-1700686800@openuk.uk
SUMMARY:OpenUK meet-up in Edinburgh
DESCRIPTION:Join OpenUK meet-up in Edinburgh on 22nd November 2023 from 6 to 9PM. \n  \nHost: \nCraig Wylie\, Engineering Lead in Cloud\, Lloyds Banking Group @TheWylieKyote \n  \nSpeakers: \nAmanda Brock\, CEO\, OpenUK @AmandaBrockUK \nMike McQuaid\, CTO and Co-Founder\, Workbrew @MikeMcQuaid \n  \nAttendance at this event is subject to our Privacy Policy & Code of Conduct
URL:https://openuk.uk/event-calendar/openuk-meet-up-in-edinburgh-november/
LOCATION:Scottish Widows\, 69 Morrison St\, Edinburgh EH3 1HL
CATEGORIES:Meetups,OpenUK Events
ATTACH;FMTTYPE=image/png:https://openuk.uk/wp-content/uploads/2023/10/Meet-up-Card-2.png
END:VEVENT
END:VCALENDAR