BEGIN:VCALENDAR
VERSION:2.0
PRODID:-//OpenUK - ECPv6.15.20//NONSGML v1.0//EN
CALSCALE:GREGORIAN
METHOD:PUBLISH
X-WR-CALNAME:OpenUK
X-ORIGINAL-URL:https://openuk.uk
X-WR-CALDESC:Events for OpenUK
REFRESH-INTERVAL;VALUE=DURATION:PT1H
X-Robots-Tag:noindex
X-PUBLISHED-TTL:PT1H
BEGIN:VTIMEZONE
TZID:UTC
BEGIN:STANDARD
TZOFFSETFROM:+0000
TZOFFSETTO:+0000
TZNAME:UTC
DTSTART:20220101T000000
END:STANDARD
END:VTIMEZONE
BEGIN:VEVENT
DTSTART;VALUE=DATE:20231127
DTEND;VALUE=DATE:20231128
DTSTAMP:20260419T150906
CREATED:20231208T114747Z
LAST-MODIFIED:20231208T114945Z
UID:39376-1701043200-1701129599@openuk.uk
SUMMARY:Saudi Data and AI Authority’s Saudi Data Forum\, 27 November\, JW Marriott Riyadh
DESCRIPTION:
URL:https://openuk.uk/event-calendar/saudi-data-and-ai-authoritys-saudi-data-forum-27-november-jw-marriott-riyadh/
CATEGORIES:Events OpenUK will be at
ATTACH;FMTTYPE=image/png:https://openuk.uk/wp-content/uploads/2023/12/شعار_الهيئة_السعودية_للبيانات_والذكاء_الاصطناعي_SDAIA.svg.png
END:VEVENT
END:VCALENDAR