BEGIN:VCALENDAR
VERSION:2.0
PRODID:-//OpenUK - ECPv6.15.20//NONSGML v1.0//EN
CALSCALE:GREGORIAN
METHOD:PUBLISH
X-ORIGINAL-URL:https://openuk.uk
X-WR-CALDESC:Events for OpenUK
REFRESH-INTERVAL;VALUE=DURATION:PT1H
X-Robots-Tag:noindex
X-PUBLISHED-TTL:PT1H
BEGIN:VTIMEZONE
TZID:UTC
BEGIN:STANDARD
TZOFFSETFROM:+0000
TZOFFSETTO:+0000
TZNAME:UTC
DTSTART:20230101T000000
END:STANDARD
END:VTIMEZONE
BEGIN:VEVENT
DTSTART;TZID=UTC:20240118T190000
DTEND;TZID=UTC:20240118T220000
DTSTAMP:20260419T134444
CREATED:20240109T172259Z
LAST-MODIFIED:20240109T172259Z
UID:39838-1705604400-1705615200@openuk.uk
SUMMARY:OSS Beer London
DESCRIPTION:Evidently AI\, Syntasso\, Atomico and Runa Capital join forces for a casual “git together” in London for open source startup founders\, executives and community leaders. \n​Get ready for an evening of insightful conversations\, networking and free beers! \n​If you’re a startup founder or just active in the open source community\, this is an event you won’t want to miss: come join us and let’s raise a toast to our vibrant OSS community! \n​The event space is limited\, so open-source founders are approved for participation on a first come\, first served basis!
URL:https://openuk.uk/event-calendar/oss-beer-london/
ATTACH;FMTTYPE=image/png:https://openuk.uk/wp-content/uploads/2024/01/OSSBeer.png
END:VEVENT
END:VCALENDAR