BEGIN:VCALENDAR
VERSION:2.0
PRODID:-//OpenUK - ECPv6.15.20//NONSGML v1.0//EN
CALSCALE:GREGORIAN
METHOD:PUBLISH
X-ORIGINAL-URL:https://openuk.uk
X-WR-CALDESC:Events for OpenUK
REFRESH-INTERVAL;VALUE=DURATION:PT1H
X-Robots-Tag:noindex
X-PUBLISHED-TTL:PT1H
BEGIN:VTIMEZONE
TZID:UTC
BEGIN:STANDARD
TZOFFSETFROM:+0000
TZOFFSETTO:+0000
TZNAME:UTC
DTSTART:20220101T000000
END:STANDARD
END:VTIMEZONE
BEGIN:VEVENT
DTSTART;VALUE=DATE:20230612
DTEND;VALUE=DATE:20230614
DTSTAMP:20260423T201415
CREATED:20221107T114039Z
LAST-MODIFIED:20221107T114039Z
UID:27931-1686528000-1686700799@openuk.uk
SUMMARY:FIWARE Global Summit 2023
DESCRIPTION:Vienna City Hall
URL:https://openuk.uk/event-calendar/fiware-global-summit-2023/
CATEGORIES:Events of Interest
ATTACH;FMTTYPE=image/png:https://openuk.uk/wp-content/uploads/2022/11/AF_Final_Banner_Summit_Berlin.png
END:VEVENT
BEGIN:VEVENT
DTSTART;VALUE=DATE:20230613
DTEND;VALUE=DATE:20230616
DTSTAMP:20260423T201415
CREATED:20221107T113218Z
LAST-MODIFIED:20221107T113218Z
UID:27913-1686614400-1686873599@openuk.uk
SUMMARY:OpenInfra Summit Vancouver 2023
DESCRIPTION:Collaborate directly with the people building and running open source infrastructure using Linux\, OpenStack\, Kubernetes and 30+ other technologies. \nEarly bird registration is available until February 15\, 2023.
URL:https://openuk.uk/event-calendar/openinfra-summit-vancouver-2023/
CATEGORIES:Events of Interest
ATTACH;FMTTYPE=image/png:https://openuk.uk/wp-content/uploads/2022/11/Screen-Shot-2022-11-07-at-6.31.59-AM.png
END:VEVENT
BEGIN:VEVENT
DTSTART;VALUE=DATE:20230614
DTEND;VALUE=DATE:20230616
DTSTAMP:20260423T201415
CREATED:20230302T095317Z
LAST-MODIFIED:20230302T095317Z
UID:31573-1686700800-1686873599@openuk.uk
SUMMARY:OW2con
DESCRIPTION:June 14-15\, 2023 \nParis\, France
URL:https://openuk.uk/event-calendar/ow2con/
CATEGORIES:Events of Interest
ATTACH;FMTTYPE=image/png:https://openuk.uk/wp-content/uploads/2023/03/Screenshot-2023-03-02-at-09.52.45.png
END:VEVENT
BEGIN:VEVENT
DTSTART;VALUE=DATE:20230618
DTEND;VALUE=DATE:20230621
DTSTAMP:20260423T201415
CREATED:20221107T113659Z
LAST-MODIFIED:20221107T113659Z
UID:27922-1687046400-1687305599@openuk.uk
SUMMARY:Berlin Buzzwords 2023
DESCRIPTION:“We are back with exciting news: Berlin Buzzwords will return June 18-20\, 2023! \nAs always\, we will kick of the conference with our traditional barcamp on Sunday\, followed by two days filled with exciting talks. \nStay tuned for more information and follow us on Twitter and Linkedin as we will be launching our Call for Papers and ticket shop soon! \nWe very much hope to see all of you next year\, be it online or in Berlin!”
URL:https://openuk.uk/event-calendar/berlin-buzzwords-2023/
CATEGORIES:Events of Interest
ATTACH;FMTTYPE=image/jpeg:https://openuk.uk/wp-content/uploads/2022/11/mg_8287.jpeg
END:VEVENT
BEGIN:VEVENT
DTSTART;VALUE=DATE:20230618
DTEND;VALUE=DATE:20230620
DTSTAMP:20260423T201415
CREATED:20230302T095500Z
LAST-MODIFIED:20230302T095500Z
UID:31582-1687046400-1687219199@openuk.uk
SUMMARY:Berlin Buzzwords
DESCRIPTION:June 18-19\, 2023 \nBerlin\, Germany
URL:https://openuk.uk/event-calendar/berlin-buzzwords-2/
CATEGORIES:Events of Interest
ATTACH;FMTTYPE=image/png:https://openuk.uk/wp-content/uploads/2023/03/Screenshot-2023-03-02-at-09.54.38.png
END:VEVENT
BEGIN:VEVENT
DTSTART;VALUE=DATE:20230619
DTEND;VALUE=DATE:20230624
DTSTAMP:20260423T201415
CREATED:20230519T125158Z
LAST-MODIFIED:20230519T125158Z
UID:33128-1687132800-1687564799@openuk.uk
SUMMARY:CommCon 2023
DESCRIPTION:Amanda Brock will be keynoting
URL:https://openuk.uk/event-calendar/commcon-2023/
CATEGORIES:Events of Interest,Events OpenUK will be at
ATTACH;FMTTYPE=image/png:https://openuk.uk/wp-content/uploads/2023/05/Screenshot-2023-05-19-at-13.51.29.png
END:VEVENT
BEGIN:VEVENT
DTSTART;VALUE=DATE:20230621
DTEND;VALUE=DATE:20230622
DTSTAMP:20260423T201415
CREATED:20230308T113811Z
LAST-MODIFIED:20230308T113811Z
UID:31723-1687305600-1687391999@openuk.uk
SUMMARY:Patent Licensing USA
DESCRIPTION:June 21\, 2023 \nWashington DC\, USA \nEvent Information
URL:https://openuk.uk/event-calendar/patent-licensing-usa/
CATEGORIES:Events of Interest,Events OpenUK will be at
ATTACH;FMTTYPE=image/png:https://openuk.uk/wp-content/uploads/2023/03/Screenshot-2023-03-08-at-11.37.50.png
END:VEVENT
BEGIN:VEVENT
DTSTART;VALUE=DATE:20230622
DTEND;VALUE=DATE:20230625
DTSTAMP:20260423T201415
CREATED:20230302T101256Z
LAST-MODIFIED:20230302T101256Z
UID:31642-1687392000-1687651199@openuk.uk
SUMMARY:Africa Open Source Festival
DESCRIPTION:June 22-24\, 2023 \nLagos\, Nigeria
URL:https://openuk.uk/event-calendar/africa-open-source-festival/
CATEGORIES:Events of Interest
ATTACH;FMTTYPE=image/png:https://openuk.uk/wp-content/uploads/2023/03/Screenshot-2023-03-02-at-10.12.35.png
END:VEVENT
BEGIN:VEVENT
DTSTART;TZID=UTC:20230628T170000
DTEND;TZID=UTC:20230628T180000
DTSTAMP:20260423T201415
CREATED:20230622T141456Z
LAST-MODIFIED:20230622T141456Z
UID:34064-1687971600-1687975200@openuk.uk
SUMMARY:Flexible Document Storage with Postgres
DESCRIPTION:Postgres has always had strong support for relational storage. However\, there are many cases where relational storage is either inefficient or overly restrictive. Postgres is a flexible relational database\, designed to be extensible from its inception. One aspect of this extensibility is document storage. \nPostgres has many features designed to manage document data effortlessly\, including full text search\, JSON\, trigrams\, and specialized indexing methods to allow efficient data access. This talk will cover all of these features. \nAgenda:\n✅ Why non-relational storage?\n✅ XML: Storing and working with XML documents in Postgres.\n✅ JSON: Native support for storing\, querying\, and manipulating JSON data in Postgres.\n✅ JSONB: Taking JSON handling to the next level with binary JSON in Postgres.\n✅ Character strings: Managing and optimizing document text data.\n✅ Document-optimized indexing: Leveraging specialized indexing methods like trigrams\, GIN\, and GiST for efficient searching and retrieval. \nThis webinar will cover a new topic (from Bruce Momjian) exclusively for our subscribers. Don’t miss this opportunity to enhance your knowledge of Postgres and discover its powerful capabilities for document management ? \n❗ Also\, webinar recording will only be available for registered users\, so be sure to register – it takes less than a minute.
URL:https://openuk.uk/event-calendar/flexible-document-storage-with-postgres/
LOCATION:Online
CATEGORIES:Events of Interest
ATTACH;FMTTYPE=image/jpeg:https://openuk.uk/wp-content/uploads/2023/06/Flexible-Document-Storage-with-Postgres.jpeg
END:VEVENT
END:VCALENDAR