BEGIN:VCALENDAR
VERSION:2.0
PRODID:-//OpenUK - ECPv6.15.20//NONSGML v1.0//EN
CALSCALE:GREGORIAN
METHOD:PUBLISH
X-WR-CALNAME:OpenUK
X-ORIGINAL-URL:https://openuk.uk
X-WR-CALDESC:Events for OpenUK
REFRESH-INTERVAL;VALUE=DURATION:PT1H
X-Robots-Tag:noindex
X-PUBLISHED-TTL:PT1H
BEGIN:VTIMEZONE
TZID:UTC
BEGIN:STANDARD
TZOFFSETFROM:+0000
TZOFFSETTO:+0000
TZNAME:UTC
DTSTART:20230101T000000
END:STANDARD
END:VTIMEZONE
BEGIN:VEVENT
DTSTART;VALUE=DATE:20240506
DTEND;VALUE=DATE:20240507
DTSTAMP:20260423T031903
CREATED:20240429T142729Z
LAST-MODIFIED:20240429T142729Z
UID:41597-1714953600-1715039999@openuk.uk
SUMMARY:GOSIM Conference Netherlands 2024
DESCRIPTION:The global tech landscape is replete with innovations\, and much of its foundation is built upon the ethos of open source collaboration. At the forefront of championing this collaboration stands GOSIM\, a platform dedicated to nurturing the brightest grassroots open-source projects from their inception to maturity. \n‍GOSIM emerged from the shared vision of a global open-source community. Organized by and for the community\, this entirely volunteer-based endeavor has one prime objective: to provide a stage where innovative open-source projects can shine\, collaborate\, and evolve. It’s not just a platform; it’s a movement. One that wholeheartedly embraces an open\, diverse\, and inclusive culture. If a project is global\, innovative\, grass roots \,and open-source\, it has found its home at GOSIM.
URL:https://openuk.uk/event-calendar/gosim-conference-netherlands-2024/
LOCATION:Lijm & Cultuur Rotterdamseweg 272\, 2628 AT Delft\, The Netherlands\, Lijm & Cultuur Rotterdamseweg 272\, 2628 AT Delft\, The Netherlands
CATEGORIES:Events of Interest
ATTACH;FMTTYPE=image/png:https://openuk.uk/wp-content/uploads/2024/04/Screenshot-2024-04-29-at-3.25.13 pm.png
END:VEVENT
BEGIN:VEVENT
DTSTART;VALUE=DATE:20240507
DTEND;VALUE=DATE:20240509
DTSTAMP:20260423T031903
CREATED:20240429T154745Z
LAST-MODIFIED:20240429T154745Z
UID:41693-1715040000-1715212799@openuk.uk
SUMMARY:RustNL 2024
DESCRIPTION:Two days of talks and workshops\nInteraction space and plenty of breaks to talk\n450 students\, professionals\, companies and individuals
URL:https://openuk.uk/event-calendar/rustnl-2024/
LOCATION:Lijm en Cultuur\, Rotterdamseweg 272\, 2628 AT Delft\, The Netherlands\, Netherlands
CATEGORIES:Events of Interest
ATTACH;FMTTYPE=image/png:https://openuk.uk/wp-content/uploads/2024/04/Screenshot-2024-04-29-at-4.47.27 pm.png
END:VEVENT
BEGIN:VEVENT
DTSTART;VALUE=DATE:20240508
DTEND;VALUE=DATE:20240511
DTSTAMP:20260423T031903
CREATED:20240213T181404Z
LAST-MODIFIED:20240214T192035Z
UID:40388-1715126400-1715385599@openuk.uk
SUMMARY:Devoxx UK 2024
DESCRIPTION:A global gathering of the developer community awaits in London at Devoxx UK 2024. Inspiring speakers from across the globe will delve into vital developer-focused topics\, sharing the latest technological advancements. \nAttendees are invited to explore fascinating ideas\, expand their knowledge\, and elevate their skills. The event aims to empower developers to reach their full potential. \n  \nEARLY TICKETS: SALES CLOSE IN 17 DAYS! \nThere are less than 3 weeks left to get your hands on discounted tickets. Buy an Early Ticket by March 1st to save £110. \nCome as a group and save even more! \nBuy 10 or more tickets to receive an extra 10% discount \nBuy 20 or more tickets to receive an extra 20% discount
URL:https://openuk.uk/event-calendar/devoxx-uk-2024/
LOCATION:Business Design Centre\, 52 Upper Street\, London. N1 0QH\, United Kingdom
CATEGORIES:Events of Interest
ATTACH;FMTTYPE=image/jpeg:https://openuk.uk/wp-content/uploads/2024/02/narrow-2-header-2.jpg
END:VEVENT
BEGIN:VEVENT
DTSTART;TZID=UTC:20240513T080000
DTEND;TZID=UTC:20240515T170000
DTSTAMP:20260423T031903
CREATED:20240226T181856Z
LAST-MODIFIED:20240530T134934Z
UID:40631-1715587200-1715792400@openuk.uk
SUMMARY:CYBERUK 2024 | The UK government's flagship cyber security event
DESCRIPTION:CYBERUK 2024\, The UK government’s flagship cyber security event \n\n\n\nCYBERUK 2024: Future Tech\, Future Threat\, Future Ready \n\n\n\nCYBERUK is the UK government’s flagship cyber security event\, hosted by the National Cyber Security Centre. It convenes over 2\,000 cybersecurity leaders and professionals each year for networking\, knowledge exchange\, and collaboration. \nFor the first time\, CYBERUK is coming to the West Midlands and its thriving cyber community. \nJoin international leaders and technical experts at the ICC Birmingham from 13 – 15 May to examine the theme ‘Future Tech\, Future Threat\, Future Ready‘. Learn about cutting-edge developments\, and explore how your peers plan to respond quickly to the threats and opportunities of rapidly developing technology. \nPlaces are selling out fast for CYBERUK 2024 – make sure to secure your ticket today. \n\n\n\n\nApply to attend
URL:https://openuk.uk/event-calendar/cyberuk-2024-the-uk-governments-flagship-cyber-security-event/
LOCATION:The ICC Birmingham\, 8 Centenary Sq\, Birmingham\, B1 2EA\, United Kingdom
CATEGORIES:Events of Interest
ATTACH;FMTTYPE=image/png:https://openuk.uk/wp-content/uploads/2024/02/Screenshot-2024-02-26-at-16.35.50.png
END:VEVENT
BEGIN:VEVENT
DTSTART;VALUE=DATE:20240515
DTEND;VALUE=DATE:20240524
DTSTAMP:20260423T031903
CREATED:20240429T150811Z
LAST-MODIFIED:20240429T150811Z
UID:41621-1715731200-1716508799@openuk.uk
SUMMARY:PyCon US Pennsylvania 2024
DESCRIPTION:At PyCon US 2024\, you will find an amazing program filled with pre-conference tutorials and sponsor presentations\, 90+ of our community’s best talks\, which includes our Charlas track\, brilliant keynote speakers\, posters on display\, a lively Expo Hall filled with our incredible Sponsors’ booths\, and our famed lightning talks on each main conference day. Following the conference days\, there are 4 days of sprints that are free to all attendees and offer an opportunity for anyone to collaborate and contribute to a project even if it is their first time. \nPyCon US offers a whole host of events such as the Job Fair\, Summits\, Open Spaces\, and PyLadies Auction\, and don’t forget about the ‘hallway’ track\, which brings together Python users from around the world. \nTo include as many Python users as possible\, PyCon US 2024 will offer the online attendance option again this year for anyone who cannot join us in person. PyCon US Online will include live streams of all talks and keynote sessions during the main conference days via the PyCon US 2024 virtual platform\, Hubilo.
URL:https://openuk.uk/event-calendar/pycon-us-pennsylvania-2024/
LOCATION:1000 Fort Duquesne Blvd\, Pittsburgh\, PA 15222\, USA\, 1000 Fort Duquesne Blvd\, Pittsburgh\, PA 15222\, USA\, Pennsylvania\, United States
CATEGORIES:Events of Interest
ATTACH;FMTTYPE=image/png:https://openuk.uk/wp-content/uploads/2024/04/Screenshot-2024-04-29-at-4.04.39 pm.png
END:VEVENT
END:VCALENDAR