BEGIN:VCALENDAR
VERSION:2.0
PRODID:-//OpenUK - ECPv6.15.20//NONSGML v1.0//EN
CALSCALE:GREGORIAN
METHOD:PUBLISH
X-ORIGINAL-URL:https://openuk.uk
X-WR-CALDESC:Events for OpenUK
REFRESH-INTERVAL;VALUE=DURATION:PT1H
X-Robots-Tag:noindex
X-PUBLISHED-TTL:PT1H
BEGIN:VTIMEZONE
TZID:UTC
BEGIN:STANDARD
TZOFFSETFROM:+0000
TZOFFSETTO:+0000
TZNAME:UTC
DTSTART:20230101T000000
END:STANDARD
END:VTIMEZONE
BEGIN:VEVENT
DTSTART;VALUE=DATE:20240905
DTEND;VALUE=DATE:20240907
DTSTAMP:20260422T203625
CREATED:20240426T081507Z
LAST-MODIFIED:20240613T160547Z
UID:41552-1725494400-1725667199@openuk.uk
SUMMARY:LF Energy Summit 2024
DESCRIPTION:The world is facing immense challenges to achieve decarbonization targets and prevent the worst impacts of climate change. The only way to meet these targets is to work collaboratively to develop digital technologies and standards to optimize physical infrastructure\, orchestrate supply and demand\, and rapidly onboard clean energy resources. LF Energy accelerates the energy transition by building communities to develop open technologies and standards. LF Energy Summit will gather the LF Energy community including electric utilities\, technology vendors\, global energy companies\, researchers\, and other industry stakeholders to learn about LF Energy and its projects\, collaborate\, and share best practices.
URL:https://openuk.uk/event-calendar/lf-energy-summit-2024/
LOCATION:BRUSSELS\, BELGIUM
CATEGORIES:Events of Interest
ATTACH;FMTTYPE=image/png:https://openuk.uk/wp-content/uploads/2024/04/Screenshot-2024-04-26-at-9.12.25 am.png
END:VEVENT
BEGIN:VEVENT
DTSTART;TZID=UTC:20240919T080000
DTEND;TZID=UTC:20240922T170000
DTSTAMP:20260422T203625
CREATED:20240620T101820Z
LAST-MODIFIED:20240620T101820Z
UID:48440-1726732800-1727024400@openuk.uk
SUMMARY:The Matrix Conference
DESCRIPTION:Matrix is first and foremost built by its community. Learn what everyone is working on\, share or hack on projects\, or hire experienced members. \nThe Matrix Conference is meant for everyone and is accessible. Check out our Accessibility and Health & Safety Policy. To keep the ticket price low\, we’re also welcoming volunteers. \nSubmit a proposal\nVolunteer
URL:https://openuk.uk/event-calendar/the-matrix-conference/
LOCATION:Mitosis LAB\, Berlin\, Sonnenallee 67\, Berlin\, 12045\, Germany
CATEGORIES:Events of Interest
ATTACH;FMTTYPE=image/png:https://openuk.uk/wp-content/uploads/2024/06/Matrix-Conference.png
END:VEVENT
END:VCALENDAR