BEGIN:VCALENDAR
VERSION:2.0
PRODID:-//OpenUK - ECPv6.15.20//NONSGML v1.0//EN
CALSCALE:GREGORIAN
METHOD:PUBLISH
X-WR-CALNAME:OpenUK
X-ORIGINAL-URL:https://openuk.uk
X-WR-CALDESC:Events for OpenUK
REFRESH-INTERVAL;VALUE=DURATION:PT1H
X-Robots-Tag:noindex
X-PUBLISHED-TTL:PT1H
BEGIN:VTIMEZONE
TZID:UTC
BEGIN:STANDARD
TZOFFSETFROM:+0000
TZOFFSETTO:+0000
TZNAME:UTC
DTSTART:20230101T000000
END:STANDARD
END:VTIMEZONE
BEGIN:VEVENT
DTSTART;VALUE=DATE:20241031
DTEND;VALUE=DATE:20241103
DTSTAMP:20260422T171421
CREATED:20240429T152425Z
LAST-MODIFIED:20240429T152425Z
UID:41645-1730332800-1730591999@openuk.uk
SUMMARY:PYCONFR France 2024
DESCRIPTION:Organized by AFPy \, this four-day conference is free\, run entirely by volunteers and dedicated to bringing together people interested in the Python programming language .
URL:https://openuk.uk/event-calendar/pyconfr-france-2024/
LOCATION:UFR Mathematics and Computer Science 7 rue René Descartes 67000 Strasbourg\, Strasbourg\, France
CATEGORIES:Events of Interest
ATTACH;FMTTYPE=image/png:https://openuk.uk/wp-content/uploads/2024/04/Screenshot-2024-04-29-at-4.23.56 pm.png
END:VEVENT
BEGIN:VEVENT
DTSTART;TZID=UTC:20241104T170000
DTEND;TZID=UTC:20241104T203000
DTSTAMP:20260422T171421
CREATED:20241021T113720Z
LAST-MODIFIED:20250307T135740Z
UID:52871-1730739600-1730752200@openuk.uk
SUMMARY:Roundtable Discussion on the Role of Analog Arts in a Digital AI World
DESCRIPTION:“What Role Do Physical Analog Arts Still Have in a World of AI and Digital Media?” \nEvent Details: \nDate: 4th of November 2024\nTime: 17.00 UK\nLocation: Committee Room 1\, House of Lords\, London\, UK \nThis event will explore the enduring value of analog and physical arts in a society increasingly shaped by artificial intelligence and digital technologies. We are thrilled to feature a dynamic lineup of speakers\, including Mary Fisk-Taylor representing a business heavily engaged in analogue art creation\, Lawrence Lek recent winner of the Frieze London artist award 2024 and a practitioner of AI-enabled art\, and Joy Omoregie – GenAI innovative programs lead\, within the GenAI Innovation Centre at Amazon Web Services – who will bring their expertise and perspectives to kick off the conversation. \nThe discussion will cover topics such as: \n1. The Historical and Cultural Importance of Physical Arts: How physical arts have shaped our societies and what still persists today as we move into a new era of AI and digitally generated art. \n2. The Disruptive Force of AI in the Art World: As AI can now mimic\, replicate\, and even generate styles\, how do we understand the value of human-generated and physical art in a digital-first world? \n3. The Role of Policy in Balancing Physical and Digital Art Forms: How policymakers can foster a healthy relationship between our historic physical-first culture and the emerging digital culture.
URL:https://openuk.uk/event-calendar/houseoflords-analog-digital-rountable/
LOCATION:House of Lords\, Parliament Square\, London\, SW1A 0PW\, United Kingdom
CATEGORIES:Events of Interest,Roundtable
ATTACH;FMTTYPE=image/png:https://openuk.uk/wp-content/uploads/2024/10/Screenshot-2024-10-21-at-12.36.55.png
END:VEVENT
BEGIN:VEVENT
DTSTART;TZID=UTC:20241114T080000
DTEND;TZID=UTC:20241115T170000
DTSTAMP:20260422T171421
CREATED:20241004T160157Z
LAST-MODIFIED:20241004T160157Z
UID:52460-1731571200-1731690000@openuk.uk
SUMMARY:Gaia-X Summit 2024
DESCRIPTION:Empowering Global Data Spaces – Shaping Tomorrow’s Cloud Infrastructure\n\n\n\nDuring the Gaia-X 5th Summit\, you will have the opportunity to witness firsthand the remarkable progress made by Gaia-X and engage with industry leaders\, experts\, and innovators who are shaping the digital future. The event will feature inspiring keynotes\, interactive workshops\, and engaging panel discussions. Discover the latest insights\, exchange ideas\, and forge connections that will drive the next wave of digital transformation. Mark your calendars for 14-15 November and join us in the vibrant city of Helsinki\, Finland. Let’s come together to celebrate the achievements of Gaia-X\, explore the limitless possibilities of cooperative digital ecosystems\, and co-create a future where data is truly democratised.
URL:https://openuk.uk/event-calendar/gaia-x-summit-2024/
CATEGORIES:Events of Interest
ATTACH;FMTTYPE=image/jpeg:https://openuk.uk/wp-content/uploads/2024/10/unnamed-1.jpg
END:VEVENT
BEGIN:VEVENT
DTSTART;TZID=UTC:20241114T180000
DTEND;TZID=UTC:20241114T210000
DTSTAMP:20260422T171421
CREATED:20241028T095536Z
LAST-MODIFIED:20241028T095612Z
UID:52952-1731607200-1731618000@openuk.uk
SUMMARY:SUSE Cloud Native Meetup\, UK
DESCRIPTION:14 November 2024 – 6pm – 9pm \n\nDetails \n\n\nHi Everyone\nWe’re back with #3\, once again in London. Join us for our third Meetup in November. \nTimeline \n\n6.00 – Walk-in/Doors open ?\n6.15 – Food & Drinks ??☕️\n6.45 – Welcome by Nelson Batsford\n7:00 – Talk One ‘Reusable Rancher: Deploying and operating in Automation’ Fraser Davidson\, CTO Frontier\n7:30 Talk Two ‘Building a Secure Kubernetes Service for Private Telco Cloud’ Fintan Stewart\, Technical Delivery Specialist\, Platform Architecture\, BT\n8:00 Networking and Drinks ??\n9:00 – Time is up! See you next time. ?\n\nWe hope to see you there! \nAbstracts:\nReusable Rancher: Deploying and Operating in Automation \nIn this talk we’ll show you how to get started automating Rancher\, from server to multi-cluster apps. We’ll be using a cloud managed Kubernetes service and a CI/CD platform – plus tools like Helm and Terraform – to demo how you can deploy and operate Rancher in automation\, developer playground to production. \nBuilding a Secure Kubernetes Service for Private Telco Cloud \nIn the Telco industry\, demand on private cloud is shifting from hosting VNFs (Virtualised Network Functions) increasingly to CNFs (Containerised Network Functions). This presentation puts forward an approach to building a substrate agnostic managed Kubernetes service\, orchestrated with Rancher for use across existing on prem cloud environments and expanding to bare metal workload clusters. We explore the unique security challenges faced by telco operators and propose a robust architecture that integrates advanced security measures\, including network segmentation\, encryption\, and access control. By leveraging open source virtualisation and Kubernetes components\, a solution can be provided that is reliable but flexible to meet the complex network needs of telco CNF applications\, or\, for example\, run a data platform monitoring and analysing network events. We aim to provide an overview of the approach to component choice\, cluster builds with GitOps CI/CD and the supporting platforms required to drive adoption of a managed Kubernetes platform.
URL:https://openuk.uk/event-calendar/suse-cloud-native-meetup-uk/
LOCATION:The Trinity Bell\, EC3\, The Trinity Bell\, 18-22 Creechurch Lane\, London\, London\, EC3\, United Kingdom
CATEGORIES:Events of Interest
ATTACH;FMTTYPE=image/jpeg:https://openuk.uk/wp-content/uploads/2024/07/SUSE.jpg
END:VEVENT
BEGIN:VEVENT
DTSTART;TZID=UTC:20241118T190000
DTEND;TZID=UTC:20241118T230000
DTSTAMP:20260422T171421
CREATED:20241024T134244Z
LAST-MODIFIED:20241024T134244Z
UID:52925-1731956400-1731970800@openuk.uk
SUMMARY:ANOW! Meetup in London
DESCRIPTION:ANOW! Meetup in London\nWe invite you to our meetup in London. Anna Kondrat will present how to successfully migrate from Broadcom in three weeks\, focusing on minimizing migration risks and redefining automation. Daniel Sosiński will demonstrate the capabilities of ANOW! in managing complex ecosystems such as Cloud\, SAP\, and DataOps through a live demo\, with real-world use cases. \nAgenda:\n7:00 PM – 7:10 PM: Introduction\n7:10 PM-7:40 PM: How to successfully migrate fromAutomic of Broadcom in 3 weeks\nSpeaker: Anna Kondrat\nDuring this presentation we will explain the “3 weekes migration concept” and show how to minimise the risk of migration to zero and redefine the automation.\n7:40 PM-8:10 PM: Next-Level Automation: Tackling Cloud\, SAP\, and DataOps Challenges with Advanced WLA Solutions\nSpeaker: Daniel Sosiński\nIn this session\, we will showcase the capabilities of ANOW! through a live demo\, demonstrating how it can orchestrate complex ecosystems such as Data (Clouds\, DataOps)\, Infrastructure\, and SAP. The presentation will be centered around real use cases\, offering practical insights into its performance and applications.\n8:10 PM-10:00 PM: Q&A\, networking\, food and drinks
URL:https://openuk.uk/event-calendar/anow-meetup-in-london/
CATEGORIES:Events of Interest
ATTACH;FMTTYPE=image/webp:https://openuk.uk/wp-content/uploads/2024/10/ANOW-Meetup-London.webp
END:VEVENT
BEGIN:VEVENT
DTSTART;TZID=UTC:20241119T120000
DTEND;TZID=UTC:20241119T180000
DTSTAMP:20260422T171421
CREATED:20241114T164233Z
LAST-MODIFIED:20241114T164233Z
UID:53183-1732017600-1732039200@openuk.uk
SUMMARY:Creating Policy Futures: A Responsible AI and Careful Industries Unconference
DESCRIPTION:​​A half-day unconference\, sharing and shaping ideas for artificial intelligence (AI) policy in the cultural and creative industries. We’ll identify and discuss where there is consensus and conflict on overall direction\, priorities and detail.
URL:https://openuk.uk/event-calendar/creating-policy-futures-a-responsible-ai-and-careful-industries-unconference/
CATEGORIES:Events of Interest
ATTACH;FMTTYPE=image/png:https://openuk.uk/wp-content/uploads/2024/11/Careful-Industries.png
END:VEVENT
END:VCALENDAR