BEGIN:VCALENDAR
VERSION:2.0
PRODID:-//OpenUK - ECPv6.15.20//NONSGML v1.0//EN
CALSCALE:GREGORIAN
METHOD:PUBLISH
X-WR-CALNAME:OpenUK
X-ORIGINAL-URL:https://openuk.uk
X-WR-CALDESC:Events for OpenUK
REFRESH-INTERVAL;VALUE=DURATION:PT1H
X-Robots-Tag:noindex
X-PUBLISHED-TTL:PT1H
BEGIN:VTIMEZONE
TZID:UTC
BEGIN:STANDARD
TZOFFSETFROM:+0000
TZOFFSETTO:+0000
TZNAME:UTC
DTSTART:20240101T000000
END:STANDARD
END:VTIMEZONE
BEGIN:VEVENT
DTSTART;VALUE=DATE:20250306
DTEND;VALUE=DATE:20250308
DTSTAMP:20260422T103601
CREATED:20241212T142532Z
LAST-MODIFIED:20250116T112454Z
UID:54365-1741219200-1741391999@openuk.uk
SUMMARY:tech*STARS Milan unfog your DIGITAL MIND
DESCRIPTION:tech.Stars Milano – the ultimate tech extravaganza. Are you searching for a platform to challenge the norms and object the old and rusty? Do you want to celebrate innovation and have a playground for your techy mind to unfold? tech.Stars Milano is crafted with you in mind.  \n\n\n\n\nA two-day tech event in Milan\, delivering challenges and discussions at the heart of Italy\, with solutions across diversity & inclusion; sustainability; finance\, banking & insurance; healthcare\, automotive and retail.  \n\n\n\n\nUnfog your mind: it’s about you\, the trailblazer\, the innovator\, the forward-thinker. \n\n\n\n\nAnd as the sun sets\, dive into a festival of live performances – your heart racing\, your inner geek grooving. Ready for a night of tech\, beats\, and eats? 
URL:https://openuk.uk/event-calendar/techstars-milan-unfog-your-digital-mind/
CATEGORIES:Events of Interest
ATTACH;FMTTYPE=image/png:https://openuk.uk/wp-content/uploads/2024/12/Screenshot-2024-12-12-at-14.22.51.png
END:VEVENT
BEGIN:VEVENT
DTSTART;TZID=UTC:20250310T080000
DTEND;TZID=UTC:20250314T170000
DTSTAMP:20260422T103601
CREATED:20241004T150819Z
LAST-MODIFIED:20241004T150819Z
UID:52439-1741593600-1741971600@openuk.uk
SUMMARY:SUSECON25
DESCRIPTION:SUSECON is our annual global conference where SUSE customers\, partners and community members delve into how the latest open source advances can meet the technical needs and business challenges of the enterprise IT customer. Join us to share experiences\, knowledge\, best practices and innovations for the future. \n 
URL:https://openuk.uk/event-calendar/susecon25/
LOCATION:Universal Orlando Resort\, 6601 Adventure Way\, Orlando\, FL\, 32819\, United States
CATEGORIES:Events of Interest
ATTACH;FMTTYPE=image/png:https://openuk.uk/wp-content/uploads/2024/10/Screenshot-2024-10-04-at-16.06.17.png
END:VEVENT
BEGIN:VEVENT
DTSTART;TZID=UTC:20250325T080000
DTEND;TZID=UTC:20250325T170000
DTSTAMP:20260422T103601
CREATED:20241209T143102Z
LAST-MODIFIED:20241209T143102Z
UID:54296-1742889600-1742922000@openuk.uk
SUMMARY:NMI Semi35 Conference
DESCRIPTION:NMI Conference 2025 |  Glasgow\nJoin us at this one-day event in Glasgow as we consider the technology and business trends which will shape the global semiconductor industry over the next decade. Learn how UK companies are innovating now to create world-class products ready for 2035. \nProducts for future markets in quantum\, photonics\, med-tech\, sustainability\, net zero\, space and autonomous mobility. \nThe next ten years will see significant change through digital transformation\, exascale compute\, 6G connectivity and at-scale deployment of AI and quantum. \nThe global semiconductor market is forecast to be $2tn by 2035 driven by these growth end markets and the drive to Net Zero and sustainability. \nHear from startups\, scale-ups\, international players and researchers how the UK sector is building its place in the future. \nWith a keen market focus\, we will hear from leading companies in the UK as well as internationally how the industry will grow to take on emerging challenges and opportunities in the next decade. \nAlongside the conference\, the NMI exhibition will showcase the latest products and innovations from across the semiconductor value chain and provide a unique networking opportunity for designers\, manufacturers\, suppliers and end-users to create valuable business connections. The research institute poster session will also return this year as we aim to highlight leading UK research innovation.
URL:https://openuk.uk/event-calendar/nmi-semi35-conference/
CATEGORIES:Events of Interest
ATTACH;FMTTYPE=image/png:https://openuk.uk/wp-content/uploads/2024/12/Screenshot-2024-12-09-at-14.30.35.png
END:VEVENT
END:VCALENDAR