BEGIN:VCALENDAR
VERSION:2.0
PRODID:-//OpenUK - ECPv6.15.20//NONSGML v1.0//EN
CALSCALE:GREGORIAN
METHOD:PUBLISH
X-ORIGINAL-URL:https://openuk.uk
X-WR-CALDESC:Events for OpenUK
REFRESH-INTERVAL;VALUE=DURATION:PT1H
X-Robots-Tag:noindex
X-PUBLISHED-TTL:PT1H
BEGIN:VTIMEZONE
TZID:UTC
BEGIN:STANDARD
TZOFFSETFROM:+0000
TZOFFSETTO:+0000
TZNAME:UTC
DTSTART:20230101T000000
END:STANDARD
END:VTIMEZONE
BEGIN:VEVENT
DTSTART;TZID=UTC:20240605T080000
DTEND;TZID=UTC:20240606T170000
DTSTAMP:20260423T050553
CREATED:20240509T151217Z
LAST-MODIFIED:20240509T151217Z
UID:41942-1717574400-1717693200@openuk.uk
SUMMARY:CommCon London 2024
DESCRIPTION:London\nWed 5 June & Thu 6 June\nJoin us in the heart of London for two days of CommCon goodness: a day of hacking (Wed 5 June) and a day of technical talks (Thu 6 June). \nBringing all the same cutting edge knowledge and good vibes that you’d expect from a CommCon full-scale residential\, don’t miss out on this small-but-perfectly-formed event. \nSponsoring\nWant to sponsor? We’d love that! Here’s some more info on opportunities. \nSpeakers\nCheck out our speaker list for all our London speakers and a list of their talks.
URL:https://openuk.uk/event-calendar/commcon-london-2024/
LOCATION:Cloudflare\, 6th Floor\, Riverside Building\, The County Hall\, Belvedere Road\, London SE1 7PB\, Cloudflare\, London\, SE1 7PB\, United Kingdom
CATEGORIES:Events of Interest
ATTACH;FMTTYPE=image/jpeg:https://openuk.uk/wp-content/uploads/2024/05/unnamed.jpg
END:VEVENT
END:VCALENDAR