BEGIN:VCALENDAR
VERSION:2.0
PRODID:-//OpenUK - ECPv6.15.20//NONSGML v1.0//EN
CALSCALE:GREGORIAN
METHOD:PUBLISH
X-ORIGINAL-URL:https://openuk.uk
X-WR-CALDESC:Events for OpenUK
REFRESH-INTERVAL;VALUE=DURATION:PT1H
X-Robots-Tag:noindex
X-PUBLISHED-TTL:PT1H
BEGIN:VTIMEZONE
TZID:UTC
BEGIN:STANDARD
TZOFFSETFROM:+0000
TZOFFSETTO:+0000
TZNAME:UTC
DTSTART:20230101T000000
END:STANDARD
END:VTIMEZONE
BEGIN:VEVENT
DTSTART;TZID=UTC:20240709T080000
DTEND;TZID=UTC:20240710T170000
DTSTAMP:20260423T013830
CREATED:20240708T114415Z
LAST-MODIFIED:20240708T114415Z
UID:49313-1720512000-1720630800@openuk.uk
SUMMARY:OSPOs for Good 2024
DESCRIPTION:The second edition of the OSPOs for Good symposium is set to be a multi-day conference held on 9th and 10th July 2024\, with a richer global presence of diverse open source thinkers\, with bigger ambitions and strides for championing OSPOs as a global network for good. \nBy building on the success of last year’s event\, the goal of the 2024 conference is to be ‘bigger and better’ in every way. This action symposium aims to serve as a high-level coming out party for open source in the UN system\, delivering high-level thematic tracks that address key areas of open source policy\, as well as highlighting emerging examples of ‘open source for good’ from across the globe. It will prominently highlight the theme of ‘open source networks as enablers of global cooperation’. \nWhile the 2024 conference will of course focus on the role of Open Source Programme Offices (OSPOs) like last year’s event\, this conference will expand the scope to focus on how the conversation around OSPOs are enabling new forms of global cooperation around open source for good in countries.
URL:https://openuk.uk/event-calendar/ospos-for-good-2024/
LOCATION:United Nations Headquarters\, New York\, 405 E 45th St\, New York\, NY 10017\, United States
CATEGORIES:Events of Interest
ATTACH;FMTTYPE=image/png:https://openuk.uk/wp-content/uploads/2024/07/OSPOs_for_Good_20.png
END:VEVENT
END:VCALENDAR