BEGIN:VCALENDAR
VERSION:2.0
PRODID:-//OpenUK - ECPv6.15.20//NONSGML v1.0//EN
CALSCALE:GREGORIAN
METHOD:PUBLISH
X-ORIGINAL-URL:https://openuk.uk
X-WR-CALDESC:Events for OpenUK
REFRESH-INTERVAL;VALUE=DURATION:PT1H
X-Robots-Tag:noindex
X-PUBLISHED-TTL:PT1H
BEGIN:VTIMEZONE
TZID:UTC
BEGIN:STANDARD
TZOFFSETFROM:+0000
TZOFFSETTO:+0000
TZNAME:UTC
DTSTART:20230101T000000
END:STANDARD
END:VTIMEZONE
BEGIN:VEVENT
DTSTART;TZID=UTC:20241010T080000
DTEND;TZID=UTC:20241012T170000
DTSTAMP:20260422T204044
CREATED:20241004T150558Z
LAST-MODIFIED:20241004T150558Z
UID:52427-1728547200-1728752400@openuk.uk
SUMMARY:LibreOffice Conference 2024
DESCRIPTION:The LibreOffice Conference 2024 will take place from the 10 to the 12 October 2024 in Belval\, Esch-sur-Alzette\, Luxembourg and will be preceded by an open day for the LibreOffice community member meetings on 9 October 2024.
URL:https://openuk.uk/event-calendar/libreoffice-conference-2024/
LOCATION:BELVAL LUXEMBOURG\, 14\, porte de France\, L-4360 Esch-sur-Alzette\, Belval\, Luxembourg
CATEGORIES:Events of Interest
ATTACH;FMTTYPE=image/jpeg:https://openuk.uk/wp-content/uploads/2024/10/Luxembourg.jpg
END:VEVENT
BEGIN:VEVENT
DTSTART;TZID=UTC:20241012T100000
DTEND;TZID=UTC:20241013T170000
DTSTAMP:20260422T204044
CREATED:20241004T113602Z
LAST-MODIFIED:20241004T113602Z
UID:52331-1728727200-1728838800@openuk.uk
SUMMARY:OggCamp 2024
DESCRIPTION:After 5 years away\, OggCamp is back in 2024! \nSchedule is here! take a look at what’s on offer on our scheduled track. \nOggCamp Tickets are now available! Visit tickets to find out more and secure your place. \nWe’re at The Manchester Conference Centre in the Pendulum Hotel near Picadilly Station the weekend of October 12th and 13th 2024. \nhttps://mastodon.social/@oggcamp \nhttps://bsky.app/profile/oggcamp.bsky.social \n#OggCamp
URL:https://openuk.uk/event-calendar/oggcamp-2024/
LOCATION:The Pendulum Hotel\, Sackville Street\, Manchester\, M1 3BB\, United Kingdom
CATEGORIES:Events of Interest
ATTACH;FMTTYPE=image/jpeg:https://openuk.uk/wp-content/uploads/2024/10/oggcamp.jpg
END:VEVENT
END:VCALENDAR