BEGIN:VCALENDAR
VERSION:2.0
PRODID:-//OpenUK - ECPv6.15.20//NONSGML v1.0//EN
CALSCALE:GREGORIAN
METHOD:PUBLISH
X-ORIGINAL-URL:https://openuk.uk
X-WR-CALDESC:Events for OpenUK
REFRESH-INTERVAL;VALUE=DURATION:PT1H
X-Robots-Tag:noindex
X-PUBLISHED-TTL:PT1H
BEGIN:VTIMEZONE
TZID:UTC
BEGIN:STANDARD
TZOFFSETFROM:+0000
TZOFFSETTO:+0000
TZNAME:UTC
DTSTART:20230101T000000
END:STANDARD
END:VTIMEZONE
BEGIN:VEVENT
DTSTART;VALUE=DATE:20241014
DTEND;VALUE=DATE:20241016
DTSTAMP:20260422T204117
CREATED:20240426T082544Z
LAST-MODIFIED:20241011T121340Z
UID:41576-1728864000-1729036799@openuk.uk
SUMMARY:AI_Dev Open Source Gen AI & ML Summit 2024
DESCRIPTION:AI_dev is a nexus for developers delving into the intricate realm of open source generative AI and machine learning. At the heart of this event is the belief that open source is the engine of innovation in AI. By uniting the brightest developers from around the world\, we aim to ignite discussions\, foster collaborations\, and shape the trajectory of open source AI. Attendees will join to dive deep in hands-on sessions\, engage in robust technical discourse\, and harness the collective expertise to push the boundaries of what’s possible in the AI realm with open source.
URL:https://openuk.uk/event-calendar/ai_dev-open-source-gen-ai-ml-summit-2024/
CATEGORIES:Events of Interest
ATTACH;FMTTYPE=image/png:https://openuk.uk/wp-content/uploads/2024/04/Screenshot-2024-04-26-at-9.25.22 am.png
END:VEVENT
BEGIN:VEVENT
DTSTART;VALUE=DATE:20241015
DTEND;VALUE=DATE:20241018
DTSTAMP:20260422T204117
CREATED:20231205T202532Z
LAST-MODIFIED:20241004T155042Z
UID:39313-1728950400-1729209599@openuk.uk
SUMMARY:Open Compute Project Global Summit
DESCRIPTION:The OCP Summit is the premier event uniting the most forward-thinking minds in open IT Ecosystem development. The Summit presents a unique platform for our Community from around the globe to share their insights\, foster partnerships and showcase cutting-edge advancements in open hardware and software.
URL:https://openuk.uk/event-calendar/open-compute-project-global-summit/
LOCATION:San Jose California\, San Jose\, CA\, United States
CATEGORIES:Events of Interest
ATTACH;FMTTYPE=image/png:https://openuk.uk/wp-content/uploads/2023/12/OCP-Global-Summit.png
END:VEVENT
END:VCALENDAR