BEGIN:VCALENDAR
VERSION:2.0
PRODID:-//OpenUK - ECPv6.15.20//NONSGML v1.0//EN
CALSCALE:GREGORIAN
METHOD:PUBLISH
X-WR-CALNAME:OpenUK
X-ORIGINAL-URL:https://openuk.uk
X-WR-CALDESC:Events for OpenUK
REFRESH-INTERVAL;VALUE=DURATION:PT1H
X-Robots-Tag:noindex
X-PUBLISHED-TTL:PT1H
BEGIN:VTIMEZONE
TZID:UTC
BEGIN:STANDARD
TZOFFSETFROM:+0000
TZOFFSETTO:+0000
TZNAME:UTC
DTSTART:20230101T000000
END:STANDARD
END:VTIMEZONE
BEGIN:VEVENT
DTSTART;TZID=UTC:20241104T170000
DTEND;TZID=UTC:20241104T203000
DTSTAMP:20260422T190704
CREATED:20241021T113720Z
LAST-MODIFIED:20250307T135740Z
UID:52871-1730739600-1730752200@openuk.uk
SUMMARY:Roundtable Discussion on the Role of Analog Arts in a Digital AI World
DESCRIPTION:“What Role Do Physical Analog Arts Still Have in a World of AI and Digital Media?” \nEvent Details: \nDate: 4th of November 2024\nTime: 17.00 UK\nLocation: Committee Room 1\, House of Lords\, London\, UK \nThis event will explore the enduring value of analog and physical arts in a society increasingly shaped by artificial intelligence and digital technologies. We are thrilled to feature a dynamic lineup of speakers\, including Mary Fisk-Taylor representing a business heavily engaged in analogue art creation\, Lawrence Lek recent winner of the Frieze London artist award 2024 and a practitioner of AI-enabled art\, and Joy Omoregie – GenAI innovative programs lead\, within the GenAI Innovation Centre at Amazon Web Services – who will bring their expertise and perspectives to kick off the conversation. \nThe discussion will cover topics such as: \n1. The Historical and Cultural Importance of Physical Arts: How physical arts have shaped our societies and what still persists today as we move into a new era of AI and digitally generated art. \n2. The Disruptive Force of AI in the Art World: As AI can now mimic\, replicate\, and even generate styles\, how do we understand the value of human-generated and physical art in a digital-first world? \n3. The Role of Policy in Balancing Physical and Digital Art Forms: How policymakers can foster a healthy relationship between our historic physical-first culture and the emerging digital culture.
URL:https://openuk.uk/event-calendar/houseoflords-analog-digital-rountable/
LOCATION:House of Lords\, Parliament Square\, London\, SW1A 0PW\, United Kingdom
CATEGORIES:Events of Interest,Roundtable
ATTACH;FMTTYPE=image/png:https://openuk.uk/wp-content/uploads/2024/10/Screenshot-2024-10-21-at-12.36.55.png
END:VEVENT
END:VCALENDAR