BEGIN:VCALENDAR
VERSION:2.0
PRODID:-//OpenUK - ECPv6.15.20//NONSGML v1.0//EN
CALSCALE:GREGORIAN
METHOD:PUBLISH
X-ORIGINAL-URL:https://openuk.uk
X-WR-CALDESC:Events for OpenUK
REFRESH-INTERVAL;VALUE=DURATION:PT1H
X-Robots-Tag:noindex
X-PUBLISHED-TTL:PT1H
BEGIN:VTIMEZONE
TZID:UTC
BEGIN:STANDARD
TZOFFSETFROM:+0000
TZOFFSETTO:+0000
TZNAME:UTC
DTSTART:20240101T000000
END:STANDARD
END:VTIMEZONE
BEGIN:VEVENT
DTSTART;TZID=UTC:20250805T080000
DTEND;TZID=UTC:20250807T170000
DTSTAMP:20260420T041542
CREATED:20250326T110633Z
LAST-MODIFIED:20250326T110714Z
UID:56918-1754380800-1754586000@openuk.uk
SUMMARY:Open Source Summit India 2025
DESCRIPTION:Save the Date!\nAugust 5\, 2025\nHyderabad\, India\n#OSSummit
URL:https://openuk.uk/event-calendar/open-source-summit-india-2025/
CATEGORIES:Events of Interest
ATTACH;FMTTYPE=image/png:https://openuk.uk/wp-content/uploads/2025/03/Screenshot-2025-03-26-110548.png
END:VEVENT
BEGIN:VEVENT
DTSTART;TZID=UTC:20250806T080000
DTEND;TZID=UTC:20250807T170000
DTSTAMP:20260420T041542
CREATED:20250326T121022Z
LAST-MODIFIED:20250326T121023Z
UID:56975-1754467200-1754586000@openuk.uk
SUMMARY:Kubecon India 2025
DESCRIPTION:Save the Date!\nAugust 6-7 2025\nHyderabad\, India\n#KubeCon\n#CloudNativeCon
URL:https://openuk.uk/event-calendar/kubecon-india-2025/
CATEGORIES:Events of Interest
ATTACH;FMTTYPE=image/png:https://openuk.uk/wp-content/uploads/2025/03/Screenshot-2025-03-26-120820.png
END:VEVENT
END:VCALENDAR