BEGIN:VCALENDAR
VERSION:2.0
PRODID:-//OpenUK - ECPv6.15.20//NONSGML v1.0//EN
CALSCALE:GREGORIAN
METHOD:PUBLISH
X-WR-CALNAME:OpenUK
X-ORIGINAL-URL:https://openuk.uk
X-WR-CALDESC:Events for OpenUK
REFRESH-INTERVAL;VALUE=DURATION:PT1H
X-Robots-Tag:noindex
X-PUBLISHED-TTL:PT1H
BEGIN:VTIMEZONE
TZID:UTC
BEGIN:STANDARD
TZOFFSETFROM:+0000
TZOFFSETTO:+0000
TZNAME:UTC
DTSTART:20250101T000000
END:STANDARD
END:VTIMEZONE
BEGIN:VEVENT
DTSTART;VALUE=DATE:20260407
DTEND;VALUE=DATE:20260409
DTSTAMP:20260419T151705
CREATED:20260127T154318Z
LAST-MODIFIED:20260127T154318Z
UID:76208-1775520000-1775692799@openuk.uk
SUMMARY:PyTorch Conference Europe 2026
DESCRIPTION:PyTorch Conference Europe 2026 \nDate: 7-8 April 2026 || Mode: In-person || Location: Paris\, France
URL:https://openuk.uk/event-calendar/pytorch-conference-europe-2026/
CATEGORIES:Events of Interest
ATTACH;FMTTYPE=image/png:https://openuk.uk/wp-content/uploads/2026/01/Screenshot-2026-01-27-at-15.31.36.png
END:VEVENT
END:VCALENDAR