BEGIN:VCALENDAR
VERSION:2.0
PRODID:-//OpenUK - ECPv6.15.20//NONSGML v1.0//EN
CALSCALE:GREGORIAN
METHOD:PUBLISH
X-ORIGINAL-URL:https://openuk.uk
X-WR-CALDESC:Events for OpenUK
REFRESH-INTERVAL;VALUE=DURATION:PT1H
X-Robots-Tag:noindex
X-PUBLISHED-TTL:PT1H
BEGIN:VTIMEZONE
TZID:UTC
BEGIN:STANDARD
TZOFFSETFROM:+0000
TZOFFSETTO:+0000
TZNAME:UTC
DTSTART:20250101T000000
END:STANDARD
END:VTIMEZONE
BEGIN:VEVENT
DTSTART;VALUE=DATE:20260425
DTEND;VALUE=DATE:20260427
DTSTAMP:20260419T153522
CREATED:20260112T111711Z
LAST-MODIFIED:20260112T150135Z
UID:75500-1777075200-1777247999@openuk.uk
SUMMARY:OggCamp 2026
DESCRIPTION:OggCamp 2026 \nDate: 25th – 26th April || Mode: In-person || Location: Manchester\, UK
URL:https://openuk.uk/event-calendar/oggcamp-2026/
LOCATION:The Manchester Conference Centre\, Sackville St\, Manchester\, M1 3BB\, United Kingdom
CATEGORIES:Events of Interest
ATTACH;FMTTYPE=image/png:https://openuk.uk/wp-content/uploads/2026/01/Screenshot-2026-01-12-at-11.14.39.png
END:VEVENT
END:VCALENDAR