BEGIN:VCALENDAR
VERSION:2.0
PRODID:-//OpenUK - ECPv6.15.20//NONSGML v1.0//EN
CALSCALE:GREGORIAN
METHOD:PUBLISH
X-WR-CALNAME:OpenUK
X-ORIGINAL-URL:https://openuk.uk
X-WR-CALDESC:Events for OpenUK
REFRESH-INTERVAL;VALUE=DURATION:PT1H
X-Robots-Tag:noindex
X-PUBLISHED-TTL:PT1H
BEGIN:VTIMEZONE
TZID:UTC
BEGIN:STANDARD
TZOFFSETFROM:+0000
TZOFFSETTO:+0000
TZNAME:UTC
DTSTART:20250101T000000
END:STANDARD
END:VTIMEZONE
BEGIN:VEVENT
DTSTART;VALUE=DATE:20260607
DTEND;VALUE=DATE:20260610
DTSTAMP:20260419T200128
CREATED:20260114T163003Z
LAST-MODIFIED:20260114T163038Z
UID:75776-1780790400-1781049599@openuk.uk
SUMMARY:Berlin Buzzwords 2026
DESCRIPTION:Berlin Buzzwords\nDate: 7th – 9th June || Mode: In-person || Location: Berlin\, Germany
URL:https://openuk.uk/event-calendar/berlin-buzzwords-2026/
CATEGORIES:Events of Interest
ATTACH;FMTTYPE=image/png:https://openuk.uk/wp-content/uploads/2026/01/Screenshot-2026-01-12-at-15.48.41-scaled.png
END:VEVENT
BEGIN:VEVENT
DTSTART;VALUE=DATE:20260608
DTEND;VALUE=DATE:20260613
DTSTAMP:20260419T200128
CREATED:20260115T153534Z
LAST-MODIFIED:20260115T154846Z
UID:75962-1780876800-1781308799@openuk.uk
SUMMARY:London Tech Week 2026
DESCRIPTION:London Tech Week \n8-12 June\, Olympia\, London\, UK 
URL:https://openuk.uk/event-calendar/london-tech-week-2026/
CATEGORIES:Events of Interest
ATTACH;FMTTYPE=image/png:https://openuk.uk/wp-content/uploads/2026/01/Screenshot-2026-01-15-at-15.32.59-scaled.png
END:VEVENT
BEGIN:VEVENT
DTSTART;VALUE=DATE:20260609
DTEND;VALUE=DATE:20260612
DTSTAMP:20260419T200128
CREATED:20260319T162545Z
LAST-MODIFIED:20260319T162545Z
UID:77576-1780963200-1781222399@openuk.uk
SUMMARY:CommCon 2026 - Düsseldorf
DESCRIPTION:9-11 June || In person || Germany \nLocation: LAVAlabs Moving Images GmbH & Co. KG\, Ackerstraße 11\, 40233 Düsseldorf\, Germany
URL:https://openuk.uk/event-calendar/commcon-2026-dusseldorf/
CATEGORIES:Events of Interest
ATTACH;FMTTYPE=image/png:https://openuk.uk/wp-content/uploads/2026/03/CommCon.png
END:VEVENT
END:VCALENDAR