BEGIN:VCALENDAR
VERSION:2.0
PRODID:-//OpenUK - ECPv6.15.20//NONSGML v1.0//EN
CALSCALE:GREGORIAN
METHOD:PUBLISH
X-ORIGINAL-URL:https://openuk.uk
X-WR-CALDESC:Events for OpenUK
REFRESH-INTERVAL;VALUE=DURATION:PT1H
X-Robots-Tag:noindex
X-PUBLISHED-TTL:PT1H
BEGIN:VTIMEZONE
TZID:UTC
BEGIN:STANDARD
TZOFFSETFROM:+0000
TZOFFSETTO:+0000
TZNAME:UTC
DTSTART:20250101T000000
END:STANDARD
END:VTIMEZONE
BEGIN:VEVENT
DTSTART;VALUE=DATE:20260612
DTEND;VALUE=DATE:20260617
DTSTAMP:20260419T183027
CREATED:20260114T163640Z
LAST-MODIFIED:20260114T163654Z
UID:75788-1781222400-1781654399@openuk.uk
SUMMARY:React Summit 2026
DESCRIPTION:React Summit\nDate: 12th – 16th June || Mode: In-person || Location: Amsterdam\, Netherlands
URL:https://openuk.uk/event-calendar/react-summit-2026/
CATEGORIES:Events of Interest
ATTACH;FMTTYPE=image/png:https://openuk.uk/wp-content/uploads/2026/01/Screenshot-2026-01-12-at-15.48.53.png
END:VEVENT
END:VCALENDAR